BEGIN:VCALENDAR
VERSION:2.0
PRODID:-//First Baptist Church, American Baptist Church Southington CT - ECPv6.15.14//NONSGML v1.0//EN
CALSCALE:GREGORIAN
METHOD:PUBLISH
X-WR-CALNAME:First Baptist Church, American Baptist Church Southington CT
X-ORIGINAL-URL:https://firstbaptistsouthington.org
X-WR-CALDESC:Events for First Baptist Church, American Baptist Church Southington CT
REFRESH-INTERVAL;VALUE=DURATION:PT1H
X-Robots-Tag:noindex
X-PUBLISHED-TTL:PT1H
BEGIN:VTIMEZONE
TZID:America/New_York
BEGIN:DAYLIGHT
TZOFFSETFROM:-0500
TZOFFSETTO:-0400
TZNAME:EDT
DTSTART:20240310T070000
END:DAYLIGHT
BEGIN:STANDARD
TZOFFSETFROM:-0400
TZOFFSETTO:-0500
TZNAME:EST
DTSTART:20241103T060000
END:STANDARD
BEGIN:DAYLIGHT
TZOFFSETFROM:-0500
TZOFFSETTO:-0400
TZNAME:EDT
DTSTART:20250309T070000
END:DAYLIGHT
BEGIN:STANDARD
TZOFFSETFROM:-0400
TZOFFSETTO:-0500
TZNAME:EST
DTSTART:20251102T060000
END:STANDARD
BEGIN:DAYLIGHT
TZOFFSETFROM:-0500
TZOFFSETTO:-0400
TZNAME:EDT
DTSTART:20260308T070000
END:DAYLIGHT
BEGIN:STANDARD
TZOFFSETFROM:-0400
TZOFFSETTO:-0500
TZNAME:EST
DTSTART:20261101T060000
END:STANDARD
END:VTIMEZONE
BEGIN:VEVENT
DTSTART;TZID=America/New_York:20250927T130000
DTEND;TZID=America/New_York:20250927T160000
DTSTAMP:20260423T045736
CREATED:20250923T125115Z
LAST-MODIFIED:20250923T125115Z
UID:5085-1758978000-1758988800@firstbaptistsouthington.org
SUMMARY:Shopping with Friends on Sept. 27 benefits Community Services
DESCRIPTION:The one-day bazaar\, “Shopping with Friends\,” will be held Saturday\, Sept. 27 sponsored by Friends of Southington Community Services. This fundraiser will be held from 1 to 4 p.m. at First Baptist Church of Southington\, 581 Meriden Ave. There is no admission fee. \nThis event is similar to the popular Unique Boutique held each spring and features high-end clothing\, footwear\, purses\, home goods\, and more. Light refreshments will also be on hand. Cash\, checks\, credit cards and Venmo will be accepted. Proceeds benefit Southington Community Services.
URL:https://firstbaptistsouthington.org/event/shopping-with-friends-on-sept-27-benefits-community-services/
ATTACH;FMTTYPE=image/jpeg:https://firstbaptistsouthington.org/wp-content/uploads/2025/09/Shopping-with-Friends-flyer-jpg.jpg
END:VEVENT
END:VCALENDAR