BEGIN:VCALENDAR
VERSION:2.0
PRODID:-//First Baptist Church, American Baptist Church Southington CT - ECPv6.15.14//NONSGML v1.0//EN
CALSCALE:GREGORIAN
METHOD:PUBLISH
X-ORIGINAL-URL:http://firstbaptistsouthington.org
X-WR-CALDESC:Events for First Baptist Church, American Baptist Church Southington CT
REFRESH-INTERVAL;VALUE=DURATION:PT1H
X-Robots-Tag:noindex
X-PUBLISHED-TTL:PT1H
BEGIN:VTIMEZONE
TZID:America/New_York
BEGIN:DAYLIGHT
TZOFFSETFROM:-0500
TZOFFSETTO:-0400
TZNAME:EDT
DTSTART:20240310T070000
END:DAYLIGHT
BEGIN:STANDARD
TZOFFSETFROM:-0400
TZOFFSETTO:-0500
TZNAME:EST
DTSTART:20241103T060000
END:STANDARD
BEGIN:DAYLIGHT
TZOFFSETFROM:-0500
TZOFFSETTO:-0400
TZNAME:EDT
DTSTART:20250309T070000
END:DAYLIGHT
BEGIN:STANDARD
TZOFFSETFROM:-0400
TZOFFSETTO:-0500
TZNAME:EST
DTSTART:20251102T060000
END:STANDARD
BEGIN:DAYLIGHT
TZOFFSETFROM:-0500
TZOFFSETTO:-0400
TZNAME:EDT
DTSTART:20260308T070000
END:DAYLIGHT
BEGIN:STANDARD
TZOFFSETFROM:-0400
TZOFFSETTO:-0500
TZNAME:EST
DTSTART:20261101T060000
END:STANDARD
END:VTIMEZONE
BEGIN:VEVENT
DTSTART;TZID=America/New_York:20251224T180000
DTEND;TZID=America/New_York:20251224T190000
DTSTAMP:20260424T185342
CREATED:20251219T024833Z
LAST-MODIFIED:20251219T024833Z
UID:5215-1766599200-1766602800@firstbaptistsouthington.org
SUMMARY:First Baptist Church hosts Christmas Eve Service of Lessons and Carols
DESCRIPTION:Our church will host its traditional Christmas Eve Service of Lessons and Carols on Wednesday\, Dec. 24 at 6 p.m. This service\, led by the Rev. Sharon Holt\, includes special music and soloists\, scripture\, the Christmas message\, and the lighting of the Christ candle. It concludes with “Silent Night” sung by candlelight. The sanctuary decorations feature the Nativity\, a Christmas tree\, and an extensive display of poinsettias. \nAll are welcome. The church is handicapped accessible. For more information\, call the church office at 860-628-8121; visit www.firstbaptistsouthington.org; or First Baptist Church – Southington on Facebook.
URL:http://firstbaptistsouthington.org/event/first-baptist-church-hosts-christmas-eve-service-of-lessons-and-carols/
ATTACH;FMTTYPE=image/jpeg:http://firstbaptistsouthington.org/wp-content/uploads/2025/12/poinsettias.jpg
END:VEVENT
END:VCALENDAR