BEGIN:VCALENDAR
VERSION:2.0
PRODID:-//First Baptist Church, American Baptist Church Southington CT - ECPv6.15.14//NONSGML v1.0//EN
CALSCALE:GREGORIAN
METHOD:PUBLISH
X-WR-CALNAME:First Baptist Church, American Baptist Church Southington CT
X-ORIGINAL-URL:http://firstbaptistsouthington.org
X-WR-CALDESC:Events for First Baptist Church, American Baptist Church Southington CT
REFRESH-INTERVAL;VALUE=DURATION:PT1H
X-Robots-Tag:noindex
X-PUBLISHED-TTL:PT1H
BEGIN:VTIMEZONE
TZID:America/New_York
BEGIN:DAYLIGHT
TZOFFSETFROM:-0500
TZOFFSETTO:-0400
TZNAME:EDT
DTSTART:20190310T070000
END:DAYLIGHT
BEGIN:STANDARD
TZOFFSETFROM:-0400
TZOFFSETTO:-0500
TZNAME:EST
DTSTART:20191103T060000
END:STANDARD
BEGIN:DAYLIGHT
TZOFFSETFROM:-0500
TZOFFSETTO:-0400
TZNAME:EDT
DTSTART:20200308T070000
END:DAYLIGHT
BEGIN:STANDARD
TZOFFSETFROM:-0400
TZOFFSETTO:-0500
TZNAME:EST
DTSTART:20201101T060000
END:STANDARD
BEGIN:DAYLIGHT
TZOFFSETFROM:-0500
TZOFFSETTO:-0400
TZNAME:EDT
DTSTART:20210314T070000
END:DAYLIGHT
BEGIN:STANDARD
TZOFFSETFROM:-0400
TZOFFSETTO:-0500
TZNAME:EST
DTSTART:20211107T060000
END:STANDARD
BEGIN:DAYLIGHT
TZOFFSETFROM:-0500
TZOFFSETTO:-0400
TZNAME:EDT
DTSTART:20220313T070000
END:DAYLIGHT
BEGIN:STANDARD
TZOFFSETFROM:-0400
TZOFFSETTO:-0500
TZNAME:EST
DTSTART:20221106T060000
END:STANDARD
END:VTIMEZONE
BEGIN:VEVENT
DTSTART;TZID=America/New_York:20210103T100000
DTEND;TZID=America/New_York:20210103T110000
DTSTAMP:20260421T231233
CREATED:20210101T043433Z
LAST-MODIFIED:20210101T043433Z
UID:2359-1609668000-1609671600@firstbaptistsouthington.org
SUMMARY:Virtual Communion Sunday Worship Jan. 3
DESCRIPTION:Join us for virtual worship at 10 a.m. on Sunday\, Jan. 3 only via Zoom and Facebook Live. It is Communion Sunday so remember your communion elements. To join via Zoom\, refer to the email from Pastor Sharon or email laurendjones32@gmail.com to receive the link. Visit www.firstbaptistsouthington.org for the worship elements. See you at worship!
URL:http://firstbaptistsouthington.org/event/virtual-communion-sunday-worship-jan-3/
ATTACH;FMTTYPE=image/jpeg:http://firstbaptistsouthington.org/wp-content/uploads/2020/12/Three-Kings-scaled.jpg
END:VEVENT
BEGIN:VEVENT
DTSTART;VALUE=DATE:20210101
DTEND;VALUE=DATE:20210102
DTSTAMP:20260421T231233
CREATED:20210101T221238Z
LAST-MODIFIED:20210101T221238Z
UID:2367-1609459200-1609545599@firstbaptistsouthington.org
SUMMARY:Have a blessed New Year!
DESCRIPTION:
URL:http://firstbaptistsouthington.org/event/have-a-blessed-new-year/
ATTACH;FMTTYPE=image/jpeg:http://firstbaptistsouthington.org/wp-content/uploads/2021/01/Happy-New-Year-behold.jpg
END:VEVENT
BEGIN:VEVENT
DTSTART;TZID=America/New_York:20201227T100000
DTEND;TZID=America/New_York:20201227T110000
DTSTAMP:20260421T231233
CREATED:20201226T205127Z
LAST-MODIFIED:20201226T205127Z
UID:2352-1609063200-1609066800@firstbaptistsouthington.org
SUMMARY:Virtual Sunday worship\, Dec. 27 at 10 a.m.
DESCRIPTION:Join us for virtual worship at 10 a.m. on Sunday\, Dec. 27 only via Zoom and Facebook Live. To join via Zoom\, refer to the email from Pastor Sharon or email laurendjones32@gmail.com to receive the link. Visit the news page for the Order of Worship and hymns. See you at worship!
URL:http://firstbaptistsouthington.org/event/virtual-sunday-worship-dec-27-at-10-a-m/
ATTACH;FMTTYPE=image/jpeg:http://firstbaptistsouthington.org/wp-content/uploads/2018/12/white-nativity.jpg
END:VEVENT
BEGIN:VEVENT
DTSTART;TZID=America/New_York:20201224T180000
DTEND;TZID=America/New_York:20201224T190000
DTSTAMP:20260421T231233
CREATED:20201223T041646Z
LAST-MODIFIED:20201223T041754Z
UID:2344-1608832800-1608836400@firstbaptistsouthington.org
SUMMARY:Virtual Christmas Eve Service of Lessons & Carols
DESCRIPTION:Join us on Thursday\, Dec. 24 at 6 p.m. for the virtual Christmas Eve Service of Lessons & Carols on Zoom and Facebook Live. To join via Zoom\, refer to the email from Pastor Sharon or email laurendjones32@gmail.com to receive the link. Prepare your own candle to light before we sing “Silent Night.” Come let us adore Him! \nClick here for the Order of Worship: \nOrder of Worship – December 24\, 2020 \nClick here for the hymns: \nHymns for Christmas Eve\, December 24\, 2020
URL:http://firstbaptistsouthington.org/event/virtual-christmas-eve-service-of-lessons-carols/
ATTACH;FMTTYPE=image/jpeg:http://firstbaptistsouthington.org/wp-content/uploads/2020/12/CE-006-scaled.jpg
END:VEVENT
BEGIN:VEVENT
DTSTART;TZID=America/New_York:20201222T170000
DTEND;TZID=America/New_York:20201222T233000
DTSTAMP:20260421T231233
CREATED:20201219T011321Z
LAST-MODIFIED:20201219T011321Z
UID:2335-1608656400-1608679800@firstbaptistsouthington.org
SUMMARY:Illuminate the Night - Dec. 22
DESCRIPTION:Please light a luminary at the end of your driveway in support of all affected by the pandemic.
URL:http://firstbaptistsouthington.org/event/illuminate-the-night-dec-22/
ATTACH;FMTTYPE=image/jpeg:http://firstbaptistsouthington.org/wp-content/uploads/2020/12/Illuminate-the-Night-Dec-22.jpg
END:VEVENT
BEGIN:VEVENT
DTSTART;TZID=America/New_York:20201220T100000
DTEND;TZID=America/New_York:20201220T110000
DTSTAMP:20260421T231233
CREATED:20201219T004440Z
LAST-MODIFIED:20201219T004440Z
UID:2325-1608458400-1608462000@firstbaptistsouthington.org
SUMMARY:Fourth Sunday of Advent: Love - Dec. 20
DESCRIPTION:It’s the Fourth Sunday of Advent – Love! Join us for virtual worship at 10 a.m. on Sunday\, Dec. 20 only via Zoom and Facebook Live. To join via Zoom\, refer to the email from Pastor Sharon or email laurendjones32@gmail.com to receive the link. Visit the news section for the worship elements. See you at worship!
URL:http://firstbaptistsouthington.org/event/fourth-sunday-of-advent-love-dec-20/
ATTACH;FMTTYPE=image/jpeg:http://firstbaptistsouthington.org/wp-content/uploads/2020/12/Fourth-Sunday-of-Advent.jpg
END:VEVENT
BEGIN:VEVENT
DTSTART;TZID=America/New_York:20201213T100000
DTEND;TZID=America/New_York:20201213T110000
DTSTAMP:20260421T231233
CREATED:20201212T135356Z
LAST-MODIFIED:20201212T135437Z
UID:2311-1607853600-1607857200@firstbaptistsouthington.org
SUMMARY:Third Sunday of Advent: Joy
DESCRIPTION:It’s the Third Sunday of Advent – Joy! Join us for virtual worship at 10 a.m. on Sunday\, Dec. 13 only via Zoom and Facebook Live. To join via Zoom\, refer to the email from Pastor Sharon or email laurendjones32@gmail.com to receive the link. Visit “news” at  www.firstbaptistsouthington.org for the worship elements. See you at worship!
URL:http://firstbaptistsouthington.org/event/third-sunday-of-advent-joy/
ATTACH;FMTTYPE=image/jpeg:http://firstbaptistsouthington.org/wp-content/uploads/2020/12/Advent-3rd-Sunday-Joy.jpg
END:VEVENT
BEGIN:VEVENT
DTSTART;TZID=America/New_York:20201206T100000
DTEND;TZID=America/New_York:20201206T110000
DTSTAMP:20260421T231233
CREATED:20201205T213256Z
LAST-MODIFIED:20201205T213256Z
UID:2303-1607248800-1607252400@firstbaptistsouthington.org
SUMMARY:Second Sunday of Advent: Peace - Dec. 6
DESCRIPTION:It’s the Second Sunday of Advent – Peace! Join us for virtual worship at 10 a.m. on Sunday\, Dec. 6 only via Zoom and Facebook Live. As it is the first Sunday of the month\, remember to prepare your communion elements. To join via Zoom\, refer to the email from Pastor Sharon or email laurendjones32@gmail.com to receive the link. Visit firstbaptistsouthington.org for the worship elements. See you at worship!
URL:http://firstbaptistsouthington.org/event/second-sunday-of-advent-peace-dec-6/
ATTACH;FMTTYPE=image/jpeg:http://firstbaptistsouthington.org/wp-content/uploads/2020/12/Advent-2nd-Sunday-peace.jpg
END:VEVENT
BEGIN:VEVENT
DTSTART;TZID=America/New_York:20201129T100000
DTEND;TZID=America/New_York:20201129T110000
DTSTAMP:20260421T231233
CREATED:20201128T160506Z
LAST-MODIFIED:20201128T160529Z
UID:2299-1606644000-1606647600@firstbaptistsouthington.org
SUMMARY:First Sunday of Advent Nov. 29: Hope!
DESCRIPTION:It’s the First Sunday of Advent – Hope! Join us at 10 a.m. on Sunday\, Nov. 29 only via Zoom and Facebook Live. To join via Zoom\, refer to the email from Pastor Sharon or email laurendjones32@gmail.com to receive the link. Check the news section for the worship elements.
URL:http://firstbaptistsouthington.org/event/first-sunday-of-advent-nov-28-hope/
ATTACH;FMTTYPE=image/jpeg:http://firstbaptistsouthington.org/wp-content/uploads/2020/11/First-Sunday-Of-Advent-Hope-760x540-1.jpg
END:VEVENT
BEGIN:VEVENT
DTSTART;VALUE=DATE:20201126
DTEND;VALUE=DATE:20201127
DTSTAMP:20260421T231233
CREATED:20201106T025408Z
LAST-MODIFIED:20201106T025408Z
UID:2248-1606348800-1606435199@firstbaptistsouthington.org
SUMMARY:Happy Thanksgiving
DESCRIPTION:
URL:http://firstbaptistsouthington.org/event/happy-thanksgiving-2/
ATTACH;FMTTYPE=image/jpeg:http://firstbaptistsouthington.org/wp-content/uploads/2020/11/Happy-thanksgiving-the-goodness-of-the-Lord.jpg
END:VEVENT
BEGIN:VEVENT
DTSTART;TZID=America/New_York:20201124T190000
DTEND;TZID=America/New_York:20201124T200000
DTSTAMP:20260421T231233
CREATED:20201119T033250Z
LAST-MODIFIED:20201124T011344Z
UID:2281-1606244400-1606248000@firstbaptistsouthington.org
SUMMARY:Southington Interfaith Clergy Thanksgiving Worship on Nov. 24
DESCRIPTION:The Southington Interfaith Clergy Association is presenting its traditional Community Thanksgiving Service on Tuesday\, Nov. 24 at 7 p.m. The service will be pre-recorded and shown on the Southington Interfaith Clergy Association Facebook page. It can also be viewed on YouTube: (352) SICA Interfaith Thanksgiving Service 2020 – YouTube \nThe event is hosted by Gishrei Shalom Jewish Congregation\, First Congregational Church of Southington and Southington Interfaith Clergy Association. Local clergy\, including the Rev. Sharon Holt\, will be participating. Let’s continue the community tradition of giving thanks “together.”
URL:http://firstbaptistsouthington.org/event/southington-interfaith-clergy-thanksgiving-worship-on-nov-24/
ATTACH;FMTTYPE=image/jpeg:http://firstbaptistsouthington.org/wp-content/uploads/2020/11/Southington-Interfaith-Clergy-Thanksgiving..jpg
END:VEVENT
BEGIN:VEVENT
DTSTART;TZID=America/New_York:20201122T100000
DTEND;TZID=America/New_York:20201122T110000
DTSTAMP:20260421T231233
CREATED:20201122T040132Z
LAST-MODIFIED:20201122T040132Z
UID:2284-1606039200-1606042800@firstbaptistsouthington.org
SUMMARY:Thanksgiving Sunday Worship on Nov. 22
DESCRIPTION:Thanksgiving Sunday Worship on Nov. 22 will be held at 10 a.m. only via Zoom and Facebook Live. To join via Zoom\, refer to the email from Pastor Sharon or email laurendjones32@gmail.com to receive the link. Visit the news posting for the worship elements. See you at worship!
URL:http://firstbaptistsouthington.org/event/thanksgiving-sunday-worship-on-nov-22/
ATTACH;FMTTYPE=image/jpeg:http://firstbaptistsouthington.org/wp-content/uploads/2020/11/Thanksgiving-2020.jpg
END:VEVENT
BEGIN:VEVENT
DTSTART;TZID=America/New_York:20201115T100000
DTEND;TZID=America/New_York:20201115T110000
DTSTAMP:20260421T231233
CREATED:20201114T205742Z
LAST-MODIFIED:20201114T205742Z
UID:2271-1605434400-1605438000@firstbaptistsouthington.org
SUMMARY:Sunday worship\, Nov. 15
DESCRIPTION:Sunday Worship on Nov. 15 will be held at 10 a.m. only via Zoom and Facebook Live. There will be no longer be worship on the lawn. To join via Zoom\, refer to the email from Pastor Sharon or email laurendjones32@gmail.com to receive the link. Join us! \nOrder of worship: \nOrder of Worship November 15\, 2020 \nHymns: \nHymns for Sunday\, November 15\, 2020
URL:http://firstbaptistsouthington.org/event/sunday-worship-nov-15/
ATTACH;FMTTYPE=image/jpeg:http://firstbaptistsouthington.org/wp-content/uploads/2020/11/hands-with-cross-in-the-sun-e1605387246711.jpg
END:VEVENT
BEGIN:VEVENT
DTSTART;VALUE=DATE:20201111
DTEND;VALUE=DATE:20201112
DTSTAMP:20260421T231233
CREATED:20201112T130638Z
LAST-MODIFIED:20201112T130638Z
UID:2262-1605052800-1605139199@firstbaptistsouthington.org
SUMMARY:Veterans Day
DESCRIPTION:We remember and honor our veterans – those who have served and those who are serving now. Blessings to you and your families.
URL:http://firstbaptistsouthington.org/event/veterans-day/
ATTACH;FMTTYPE=image/jpeg:http://firstbaptistsouthington.org/wp-content/uploads/2020/11/veterans-day.jpg
END:VEVENT
BEGIN:VEVENT
DTSTART;TZID=America/New_York:20201108T100000
DTEND;TZID=America/New_York:20201108T110000
DTSTAMP:20260421T231233
CREATED:20201106T030509Z
LAST-MODIFIED:20201106T030509Z
UID:2253-1604829600-1604833200@firstbaptistsouthington.org
SUMMARY:Sunday worship\, Nov. 8 at 10 a.m.
DESCRIPTION:Sunday Worship on Nov. 8 will be held at 10 a.m. only via Zoom and Facebook Live. There will be no longer be worship on the lawn. To join via Zoom\, refer to the email from Pastor Sharon or email laurendjones32@gmail.com to receive the link. See you at worship!
URL:http://firstbaptistsouthington.org/event/sunday-worship-nov-8-at-10-a-m/
ATTACH;FMTTYPE=image/jpeg:http://firstbaptistsouthington.org/wp-content/uploads/2020/11/20181109_094809-1-scaled.jpg
END:VEVENT
BEGIN:VEVENT
DTSTART;TZID=America/New_York:20201106T090000
DTEND;TZID=America/New_York:20201106T100000
DTSTAMP:20260421T231233
CREATED:20201106T025856Z
LAST-MODIFIED:20201106T025856Z
UID:2251-1604653200-1604656800@firstbaptistsouthington.org
SUMMARY:Prayer Group
DESCRIPTION:Need prayer? We will lift up your special intentions.
URL:http://firstbaptistsouthington.org/event/prayer-group-5/
ATTACH;FMTTYPE=image/jpeg:http://firstbaptistsouthington.org/wp-content/uploads/2020/04/power-of-prayer.jpg
END:VEVENT
BEGIN:VEVENT
DTSTART;TZID=America/New_York:20201101T100000
DTEND;TZID=America/New_York:20201101T110000
DTSTAMP:20260421T231233
CREATED:20201031T025709Z
LAST-MODIFIED:20201031T025709Z
UID:2240-1604224800-1604228400@firstbaptistsouthington.org
SUMMARY:All Saints Sunday\, Nov. 1
DESCRIPTION:All Saints Sunday Worship on Sunday\, Nov. 1 will be held at 10 a.m. only via Zoom and Facebook Live. There will be no worship on the church lawn as temperatures are expected to be in the 40s. We will be remembering those who passed away this year. It is Communion Sunday so please prepare your worship elements. To join via Zoom\, refer to the email from Pastor Sharon or email laurendjones32@gmail.com to receive the link. See you at worship!
URL:http://firstbaptistsouthington.org/event/all-saints-sunday-nov-1/
ATTACH;FMTTYPE=image/jpeg:http://firstbaptistsouthington.org/wp-content/uploads/2020/10/20190505_094645-e1604112932482.jpg
END:VEVENT
BEGIN:VEVENT
DTSTART;TZID=America/New_York:20201025T100000
DTEND;TZID=America/New_York:20201025T110000
DTSTAMP:20260421T231233
CREATED:20201024T210036Z
LAST-MODIFIED:20201024T210036Z
UID:2229-1603620000-1603623600@firstbaptistsouthington.org
SUMMARY:Sunday worship\, Oct. 25\, 10 a.m.\, Zoom or Facebook Live
DESCRIPTION:Worship on Sunday\, Oct. 25 will be held at 10 a.m. only via Zoom and Facebook Live. There will be no worship on the church lawn as temperatures are expected to be in the 40s. To join via Zoom\, refer to the email from Pastor Sharon or email ljones@ctserc.org to receive the link. See you at worship! \nOrder of Worship: \nOrder of Worship October 25\, 2020 \nHymns: \nHymns for Sunday\, October 25\, 2020
URL:http://firstbaptistsouthington.org/event/sunday-worship-oct-25-10-a-m-zoom-or-facebook-live/
ATTACH;FMTTYPE=image/jpeg:http://firstbaptistsouthington.org/wp-content/uploads/2020/10/church-window.jpg
END:VEVENT
BEGIN:VEVENT
DTSTART;TZID=America/New_York:20201018T090000
DTEND;TZID=America/New_York:20201018T100000
DTSTAMP:20260421T231233
CREATED:20201017T024235Z
LAST-MODIFIED:20201017T025114Z
UID:2219-1603011600-1603015200@firstbaptistsouthington.org
SUMMARY:Virtual worship Sunday\, Oct. 18\, 10 a.m.
DESCRIPTION:Worship on Sunday\, Oct. 18 will be held at 10 a.m. only via Zoom and on Facebook Live. There will be no worship on the church lawn. Evangeline Bourgeois\, former music director\, is our guest musician. To join via Zoom\, refer to the email from Pastor Sharon or email ljones@ctserc.org to receive the link. Click here for the Order of Worship: Order of Worship October 18\, 2020 \nClick here for the hymns: Hymns for Sunday\, October 18\, 2020 \nSee you at worship!
URL:http://firstbaptistsouthington.org/event/virtual-worship-sunday-oct-18-10-a-m/
CATEGORIES:Weekly Events
ATTACH;FMTTYPE=image/jpeg:http://firstbaptistsouthington.org/wp-content/uploads/2020/10/Rieke-20190317_110445-1-e1602902435829.jpg
END:VEVENT
BEGIN:VEVENT
DTSTART;TZID=America/New_York:20201011T100000
DTEND;TZID=America/New_York:20201011T110000
DTSTAMP:20260421T231233
CREATED:20201009T030531Z
LAST-MODIFIED:20201009T030658Z
UID:2210-1602410400-1602414000@firstbaptistsouthington.org
SUMMARY:Sunday worship on Oct. 11\, 10 a.m.
DESCRIPTION:Worship on Sunday\, Oct. 11 will be held at 10 a.m. on the church lawn\, via Zoom and on Facebook Live. Please bring your mask\, chair or blanket\, water and a jacket – it may be chilly! Pastor Sharon has emailed the Order of Worship and Hymns so print them out and bring them with you – or you can pick up a copy there To join via Zoom: \nhttps://ctserc.zoom.us/j/96360718812?pwd=cSttWVRMWEdkakY4L2d4UlgxeUc4UT09 \nMeeting ID: 963 6071 8812 \nPasscode: 860628821 \n+1 929 205 6099 US (New York) \nMeeting ID: 963 6071 8812 \nPasscode: 860628821 \nSee you there!
URL:http://firstbaptistsouthington.org/event/2210/
ATTACH;FMTTYPE=image/jpeg:http://firstbaptistsouthington.org/wp-content/uploads/2020/10/20200830_093555-scaled.jpg
END:VEVENT
BEGIN:VEVENT
DTSTART;TZID=America/New_York:20201004T100000
DTEND;TZID=America/New_York:20201004T110000
DTSTAMP:20260421T231233
CREATED:20201003T233355Z
LAST-MODIFIED:20201003T233355Z
UID:2205-1601805600-1601809200@firstbaptistsouthington.org
SUMMARY:Communion Sunday Oct. 4
DESCRIPTION:Worship on Sunday\, Oct. 4 will be held at 10 a.m. only via Zoom and Facebook Live. There will be no service on the lawn. It is Communion Sunday so have your elements ready to join us. Our former music director Evangeline Bourgeois will be providing the music for the service. \nTo join via Zoom: \nhttps://ctserc.zoom.us/j/96360718812?pwd=cSttWVRMWEdkakY4L2d4UlgxeUc4UT09 \nMeeting ID: 963 6071 8812 \nPasscode: 860628821 \n+1 929 205 6099 US (New York) \nMeeting ID: 963 6071 8812 \nPasscode: 860628821
URL:http://firstbaptistsouthington.org/event/communion-sunday-oct-4/
ATTACH;FMTTYPE=image/jpeg:http://firstbaptistsouthington.org/wp-content/uploads/2018/10/FBC-Thanksgiving-display.jpg
END:VEVENT
BEGIN:VEVENT
DTSTART;TZID=America/New_York:20200927T100000
DTEND;TZID=America/New_York:20200927T110000
DTSTAMP:20260421T231233
CREATED:20200926T180521Z
LAST-MODIFIED:20200926T180521Z
UID:2195-1601200800-1601204400@firstbaptistsouthington.org
SUMMARY:Sunday\, Sept. 27\, 10 a.m. worship on lawn\, Zoom & Facebook Live
DESCRIPTION:Dear Family\, \nOn Sunday\, Sept. 27\, at 10 a.m.\, we will worship outdoors on the lawn and on Zoom/Facebook simultaneously. If the situation changes and we need to livestream on Zoom only\, Pastor Sharon will send out an email on Sunday morning. If attending in person\, please bring a mask\, chair and water. Print out the order of worship and hymns and bring them with you\, if possible. Thank you for observing social distancing. \nThe NEW Zoom link is: https://ctserc.zoom.us/j/96360718812?pwd=cSttWVRMWEdkakY4L2d4UlgxeUc4UT09 \nMeeting ID: 963 6071 8812 \nYou may be asked for the Passcode: 860628821 \nPhone in: 1 929 205 6099 US (New York) \nJoin us!
URL:http://firstbaptistsouthington.org/event/sunday-sept-27-10-a-m-worship-on-lawn-zoom-facebook-live/
ATTACH;FMTTYPE=image/jpeg:http://firstbaptistsouthington.org/wp-content/uploads/2020/09/20200802_094832-scaled.jpg
END:VEVENT
BEGIN:VEVENT
DTSTART;TZID=America/New_York:20200920T100000
DTEND;TZID=America/New_York:20200920T110000
DTSTAMP:20260421T231233
CREATED:20200917T022923Z
LAST-MODIFIED:20200917T022923Z
UID:2192-1600596000-1600599600@firstbaptistsouthington.org
SUMMARY:Sept. 20 worship at 10 a.m.
DESCRIPTION:All are welcome to worship with First Baptist Church of Southington on Sunday\, Sept. 20 at 10 a.m. outdoors on the lawn and on Zoom/Facebook Live simultaneously. If the weather changes\, an email will be sent out on Sunday morning. Please bring a chair\, mask\, water and worship elements. The link for our service is:  https://ctserc.zoom.us/j/8296165570?pwd=cXBLU2l4c3NYM0xGd2xOM2JaMmdmUT09 \nMeeting ID: 829 616 5570 \nSee you there!
URL:http://firstbaptistsouthington.org/event/sept-20-worship-at-10-a-m/
ATTACH;FMTTYPE=image/jpeg:http://firstbaptistsouthington.org/wp-content/uploads/2020/09/outdoor-worship-09132020-scaled.jpg
END:VEVENT
BEGIN:VEVENT
DTSTART;TZID=America/New_York:20200913T100000
DTEND;TZID=America/New_York:20200913T110000
DTSTAMP:20260421T231233
CREATED:20200913T004906Z
LAST-MODIFIED:20200913T004906Z
UID:2177-1599991200-1599994800@firstbaptistsouthington.org
SUMMARY:Sunday worship\, Sept. 13 NEW TIME 10 a.m.
DESCRIPTION:Sunday worship on Sept. 13 is switching to the fall time of 10 a.m. We will worship on the lawn and simultaneously on Zoom and Facebook live. Please bring your mask\, worship elements\, chair and water. To connect via Zoom\, use the link:  https://ctserc.zoom.us/j/8296165570?pwd=cXBLU2l4c3NYM0xGd2xOM2JaMmdmUT09 \nMeeting ID: 829 616 5570 Please note you may be asked for our password: 860628821 \nFor the Order of Worship and hymns\, visit the website www.firstbaptistsouthington.org. \nIn case of bad weather\, it will be held on Zoom and Facebook Live.
URL:http://firstbaptistsouthington.org/event/sunday-worship-sept-13-new-time-10-a-m/
ATTACH;FMTTYPE=image/jpeg:http://firstbaptistsouthington.org/wp-content/uploads/2020/09/20200802_094832-scaled.jpg
END:VEVENT
BEGIN:VEVENT
DTSTART;TZID=America/New_York:20200906T090000
DTEND;TZID=America/New_York:20200906T100000
DTSTAMP:20260421T231233
CREATED:20200906T005558Z
LAST-MODIFIED:20200906T005558Z
UID:2169-1599382800-1599386400@firstbaptistsouthington.org
SUMMARY:Communion Sunday - Sept. 6\, 9 a.m.
DESCRIPTION:Worship on Sunday\, Sept. 6\, will be observed at 9 a.m. on the lawn\, via Zoom and Facebook Live. Please bring your chair\, mask\, water and communion elements. The link for our service is: https://ctserc.zoom.us/j/8296165570?pwd=cXBLU2l4c3NYM0xGd2xOM2JaMmdmUT09 \nMeeting ID: 829 616 5570 Please note you may be asked for our password: 860628821 One tap mobile +19292056099\,\, 863134389# US \nOr call in (New York) +13126266799 \nFor all information\, order of worship and hymns\, visit http://firstbaptistsouthington.org/2020/09/05/communion-sunday-sept-6/
URL:http://firstbaptistsouthington.org/event/communion-sunday-sept-6-9-a-m/
ATTACH;FMTTYPE=image/jpeg:http://firstbaptistsouthington.org/wp-content/uploads/2020/09/20200830_093613-scaled.jpg
END:VEVENT
BEGIN:VEVENT
DTSTART;TZID=America/New_York:20200823T090000
DTEND;TZID=America/New_York:20200823T100000
DTSTAMP:20260421T231233
CREATED:20200823T014152Z
LAST-MODIFIED:20200823T014152Z
UID:2142-1598173200-1598176800@firstbaptistsouthington.org
SUMMARY:Aug. 23 worship 9 a.m.: on the lawn\, Zoom and FB Live
DESCRIPTION:Worship on Sunday\, Aug. 23 will be held simultaneously on the front lawn\, Zoom and Facebook Live at 9 a.m. It looks like it is going to be nice morning\, but if the situation changes\, and we need to livestream on Zoom only\, an email will be sent and changes will be made to Facebook and the website www.firstbaptistsouthington.org. If attending in person\, please bring a mask\, chair\, water and sun protection. The link for our service is:  https://ctserc.zoom.us/j/863134389?pwd=MHZkOVk3Q1JjRVRlVEliU3NsOHZ1UT09 Meeting ID: 863 134 389 \nPlease note you may be asked for our password: 860628821 One tap mobile +19292056099\, 863134389# US (New York) \nTo print out the worship elements\, visit our website www.firstbaptistsouthington.org.
URL:http://firstbaptistsouthington.org/event/aug-23-worship-9-a-m-on-the-lawn-zoom-and-fb-live/
ATTACH;FMTTYPE=image/jpeg:http://firstbaptistsouthington.org/wp-content/uploads/2020/08/20200802_093504-scaled.jpg
END:VEVENT
BEGIN:VEVENT
DTSTART;TZID=America/New_York:20200816T090000
DTEND;TZID=America/New_York:20200816T170000
DTSTAMP:20260421T231233
CREATED:20200815T140504Z
LAST-MODIFIED:20200816T121144Z
UID:2127-1597568400-1597597200@firstbaptistsouthington.org
SUMMARY:No outdoor worship on Aug. 16: Join virtually
DESCRIPTION:Due to rain (hooray!)\, worship on Sunday\, Aug. 16 will be held only on Zoom and Facebook Live at 9 a.m. The link for our service is:  https://ctserc.zoom.us/j/863134389?pwd=MHZkOVk3Q1JjRVRlVEliU3NsOHZ1UT09 Meeting ID: 863 134 389 \nPlease note you may be asked for our password: 860628821 One tap mobile +19292056099\, 863134389# US (New York) \nWorship elements are available: \nOrder of Worship August 16\, 2020 Hymns for Sunday\, August 16\, 2020 \nHymns for Sunday\, August 16\, 2020
URL:http://firstbaptistsouthington.org/event/sunday-worship-aug-16-9-a-m-on-the-lawn-or-virtually/
ATTACH;FMTTYPE=image/jpeg:http://firstbaptistsouthington.org/wp-content/uploads/2020/07/church-rainbow.jpg
END:VEVENT
BEGIN:VEVENT
DTSTART;TZID=America/New_York:20200811T170000
DTEND;TZID=America/New_York:20200811T190000
DTSTAMP:20260421T231233
CREATED:20200807T015414Z
LAST-MODIFIED:20200807T015414Z
UID:2109-1597165200-1597172400@firstbaptistsouthington.org
SUMMARY:Last day for Savers Fundraiser!
DESCRIPTION:It’s the last day for collection! We are collecting soft items such as clothing\, linens\, accessories\, shoes\, purses\, etc. Please bag your times and drop them off at the church Tuesday\, Aug. 11\, 5-7p – Someone will meet you at the curb to assist. PLEASE WEAR A MASK AT ALL TIMES. Thank you!
URL:http://firstbaptistsouthington.org/event/last-day-for-savers-fundraiser/
ATTACH;FMTTYPE=image/jpeg:http://firstbaptistsouthington.org/wp-content/uploads/2020/08/Savers-001-scaled.jpg
END:VEVENT
BEGIN:VEVENT
DTSTART;TZID=America/New_York:20200810T100000
DTEND;TZID=America/New_York:20200810T120000
DTSTAMP:20260421T231233
CREATED:20200807T015023Z
LAST-MODIFIED:20200807T015023Z
UID:2106-1597053600-1597060800@firstbaptistsouthington.org
SUMMARY:Savers Fundraiser drop off continues
DESCRIPTION:We are collecting soft items such as clothing\, linens\, accessories\, shoes\, purses\, etc. Please bag your times and drop them off at the church during this time: Monday\, Aug. 10\, 10a-12p; Tuesday\, Aug. 11\, 5-7p. Someone will meet you at the curb to assist. PLEASE WEAR A MASK AT ALL TIMES. Thank you!
URL:http://firstbaptistsouthington.org/event/savers-fundraiser-drop-off-continues/
ATTACH;FMTTYPE=image/jpeg:http://firstbaptistsouthington.org/wp-content/uploads/2020/08/Savers-002-scaled.jpg
END:VEVENT
BEGIN:VEVENT
DTSTART;TZID=America/New_York:20200809T090000
DTEND;TZID=America/New_York:20200809T100000
DTSTAMP:20260421T231233
CREATED:20200809T013655Z
LAST-MODIFIED:20200809T013655Z
UID:2118-1596963600-1596967200@firstbaptistsouthington.org
SUMMARY:Sunday worship on Aug. 9: on lawn\, Zoom\, Facebook Live
DESCRIPTION:Worship on Sunday\, Aug. 9 will be held simultaneously on the front lawn\, Zoom and Facebook Live at 9 a.m. If attending in person\, please bring a mask\, chair and sun protection. The link for our service is:  https://ctserc.zoom.us/j/863134389?pwd=MHZkOVk3Q1JjRVRlVEliU3NsOHZ1UT09 Meeting ID: 863 134 389 \nPlease note you may be asked for our password: 860628821 One tap mobile +19292056099\, 863134389# US (New York)
URL:http://firstbaptistsouthington.org/event/sunday-worship-on-aug-9-on-lawn-zoom-facebook-live/
ATTACH;FMTTYPE=image/jpeg:http://firstbaptistsouthington.org/wp-content/uploads/2020/08/20200705_100120-scaled.jpg
END:VEVENT
END:VCALENDAR