BEGIN:VCALENDAR
VERSION:2.0
PRODID:-//First Baptist Church, American Baptist Church Southington CT - ECPv6.15.14//NONSGML v1.0//EN
CALSCALE:GREGORIAN
METHOD:PUBLISH
X-WR-CALNAME:First Baptist Church, American Baptist Church Southington CT
X-ORIGINAL-URL:http://firstbaptistsouthington.org
X-WR-CALDESC:Events for First Baptist Church, American Baptist Church Southington CT
REFRESH-INTERVAL;VALUE=DURATION:PT1H
X-Robots-Tag:noindex
X-PUBLISHED-TTL:PT1H
BEGIN:VTIMEZONE
TZID:America/New_York
BEGIN:DAYLIGHT
TZOFFSETFROM:-0500
TZOFFSETTO:-0400
TZNAME:EDT
DTSTART:20190310T070000
END:DAYLIGHT
BEGIN:STANDARD
TZOFFSETFROM:-0400
TZOFFSETTO:-0500
TZNAME:EST
DTSTART:20191103T060000
END:STANDARD
BEGIN:DAYLIGHT
TZOFFSETFROM:-0500
TZOFFSETTO:-0400
TZNAME:EDT
DTSTART:20200308T070000
END:DAYLIGHT
BEGIN:STANDARD
TZOFFSETFROM:-0400
TZOFFSETTO:-0500
TZNAME:EST
DTSTART:20201101T060000
END:STANDARD
BEGIN:DAYLIGHT
TZOFFSETFROM:-0500
TZOFFSETTO:-0400
TZNAME:EDT
DTSTART:20210314T070000
END:DAYLIGHT
BEGIN:STANDARD
TZOFFSETFROM:-0400
TZOFFSETTO:-0500
TZNAME:EST
DTSTART:20211107T060000
END:STANDARD
BEGIN:DAYLIGHT
TZOFFSETFROM:-0500
TZOFFSETTO:-0400
TZNAME:EDT
DTSTART:20220313T070000
END:DAYLIGHT
BEGIN:STANDARD
TZOFFSETFROM:-0400
TZOFFSETTO:-0500
TZNAME:EST
DTSTART:20221106T060000
END:STANDARD
END:VTIMEZONE
BEGIN:VEVENT
DTSTART;TZID=America/New_York:20210404T100000
DTEND;TZID=America/New_York:20210404T110000
DTSTAMP:20260423T053344
CREATED:20210403T215954Z
LAST-MODIFIED:20210403T215954Z
UID:2526-1617530400-1617534000@firstbaptistsouthington.org
SUMMARY:Easter Sunday\, April 4 - Virtual and Facebook
DESCRIPTION:Join us for virtual Easter Sunday worship at 10 a.m. on April 4 only via Zoom and Facebook Live. It is Communion Sunday so remember your communion elements. To join via Zoom\, refer to the email from Pastor Sharon or email laurendjones32@gmail.com to receive the link. Visit the news section for the worship elements. He is Risen!
URL:http://firstbaptistsouthington.org/event/easter-sunday-april-4-virtual-and-facebook/
ATTACH;FMTTYPE=image/jpeg:http://firstbaptistsouthington.org/wp-content/uploads/2021/04/FBC-Easter-crosses.jpg
END:VEVENT
BEGIN:VEVENT
DTSTART;TZID=America/New_York:20210404T063000
DTEND;TZID=America/New_York:20210404T070000
DTSTAMP:20260423T053344
CREATED:20210403T220953Z
LAST-MODIFIED:20210403T220953Z
UID:2533-1617517800-1617519600@firstbaptistsouthington.org
SUMMARY:Easter Sunday Sunrise Service - April 4
DESCRIPTION:Join us at the Merriman Cemetery on Marion Avenue Easter morning at 6:30AM to rejoice anew that He is risen! Merriman Cemetery is on the corner of Nutmeg Drive not far from Strong Elementary School. Dress warmly!
URL:http://firstbaptistsouthington.org/event/easter-sunday-sunrise-service-april-4/
ATTACH;FMTTYPE=image/jpeg:http://firstbaptistsouthington.org/wp-content/uploads/2021/04/merriman-cemetery.jpg
END:VEVENT
BEGIN:VEVENT
DTSTART;VALUE=DATE:20210402
DTEND;VALUE=DATE:20210403
DTSTAMP:20260423T053344
CREATED:20210328T022729Z
LAST-MODIFIED:20210328T022825Z
UID:2512-1617321600-1617407999@firstbaptistsouthington.org
SUMMARY:Good Friday
DESCRIPTION:
URL:http://firstbaptistsouthington.org/event/good-friday-2/
ATTACH;FMTTYPE=image/jpeg:http://firstbaptistsouthington.org/wp-content/uploads/2020/04/FBC-Easter-crosses.jpg
END:VEVENT
BEGIN:VEVENT
DTSTART;VALUE=DATE:20210401
DTEND;VALUE=DATE:20210402
DTSTAMP:20260423T053344
CREATED:20210328T022527Z
LAST-MODIFIED:20210401T012358Z
UID:2510-1617235200-1617321599@firstbaptistsouthington.org
SUMMARY:Maundy Thursday
DESCRIPTION:
URL:http://firstbaptistsouthington.org/event/maundy-thursday/
ATTACH;FMTTYPE=image/jpeg:http://firstbaptistsouthington.org/wp-content/uploads/2021/03/Maundy-Thursday.jpg
END:VEVENT
BEGIN:VEVENT
DTSTART;TZID=America/New_York:20210328T100000
DTEND;TZID=America/New_York:20210328T110000
DTSTAMP:20260423T053344
CREATED:20210328T022329Z
LAST-MODIFIED:20230203T215232Z
UID:2508-1616925600-1616929200@firstbaptistsouthington.org
SUMMARY:Palm Sunday\, March 28\, 10 a.m.\, virtual only
DESCRIPTION:Join us for Palm Sunday\, March 28 at 10 a.m. only via Zoom and Facebook Live. To join via Zoom\, refer to the email from Pastor Sharon or email laurendjones32@gmail.com to receive the link. Visit www.firstbaptistsouthington.org news for the worship elements. See you at worship!
URL:http://firstbaptistsouthington.org/event/palm-sunday-march-28-10-a-m/
ATTACH;FMTTYPE=image/jpeg:http://firstbaptistsouthington.org/wp-content/uploads/2019/04/Palm-Sunday-e1711231124725.jpg
END:VEVENT
BEGIN:VEVENT
DTSTART;TZID=America/New_York:20210321T100000
DTEND;TZID=America/New_York:20210321T110000
DTSTAMP:20260423T053344
CREATED:20210320T012831Z
LAST-MODIFIED:20210320T012831Z
UID:2495-1616320800-1616324400@firstbaptistsouthington.org
SUMMARY:Virtual Worship: Fifth Sunday of Lent on March 21
DESCRIPTION:Join us for the Fifth Sunday of Lent on March 21 at 10 a.m. only via Zoom and Facebook Live. To join via Zoom\, refer to the email from Pastor Sharon or email laurendjones32@gmail.com to receive the link. Visit the news section on  www.firstbaptistsouthington.org for the worship elements. See you at worship!
URL:http://firstbaptistsouthington.org/event/virtual-worship-fifth-sunday-of-lent-on-march-21/
ATTACH;FMTTYPE=image/jpeg:http://firstbaptistsouthington.org/wp-content/uploads/2021/03/Lent.jpg
END:VEVENT
BEGIN:VEVENT
DTSTART;VALUE=DATE:20210320
DTEND;VALUE=DATE:20210321
DTSTAMP:20260423T053344
CREATED:20210318T235249Z
LAST-MODIFIED:20210318T235249Z
UID:2492-1616198400-1616284799@firstbaptistsouthington.org
SUMMARY:Happy Spring - March 20
DESCRIPTION:
URL:http://firstbaptistsouthington.org/event/happy-spring-march-20/
ATTACH;FMTTYPE=image/jpeg:http://firstbaptistsouthington.org/wp-content/uploads/2021/03/spring-hello.jpg
END:VEVENT
BEGIN:VEVENT
DTSTART;TZID=America/New_York:20210314T100000
DTEND;TZID=America/New_York:20210314T110000
DTSTAMP:20260423T053344
CREATED:20210314T023449Z
LAST-MODIFIED:20210314T023449Z
UID:2485-1615716000-1615719600@firstbaptistsouthington.org
SUMMARY:Virtual Worship: Fourth Sunday of Lent March 14
DESCRIPTION:Join us for the Fourth Sunday of Lent on March 14 at 10 a.m. only via Zoom and Facebook Live. Remember to turn your clocks ahead or you’ll be late! To join via Zoom\, refer to the email from Pastor Sharon or email laurendjones32@gmail.com to receive the link. Visit the news page for the worship elements. See you at worship!
URL:http://firstbaptistsouthington.org/event/virtual-worship-fourth-sunday-of-lent-march-14/
ATTACH;FMTTYPE=image/jpeg:http://firstbaptistsouthington.org/wp-content/uploads/2021/03/Fourth-Sunday-of-Lent.jpg
END:VEVENT
BEGIN:VEVENT
DTSTART;VALUE=DATE:20210314
DTEND;VALUE=DATE:20210315
DTSTAMP:20260423T053344
CREATED:20210314T015451Z
LAST-MODIFIED:20210314T023540Z
UID:2480-1615680000-1615766399@firstbaptistsouthington.org
SUMMARY:Daylight Saving Time - Turn your clocks ahead!
DESCRIPTION:… Or you’ll be late for church at 10 a.m.!
URL:http://firstbaptistsouthington.org/event/daylight-saving-time-turn-your-clocks-ahead/
ATTACH;FMTTYPE=image/jpeg:http://firstbaptistsouthington.org/wp-content/uploads/2021/03/Spring-ahead.jpg
END:VEVENT
BEGIN:VEVENT
DTSTART;TZID=America/New_York:20210307T100000
DTEND;TZID=America/New_York:20210307T110000
DTSTAMP:20260423T053344
CREATED:20210306T151222Z
LAST-MODIFIED:20210306T151222Z
UID:2472-1615111200-1615114800@firstbaptistsouthington.org
SUMMARY:Virtual Communion Sunday March 7
DESCRIPTION:Join us for the Third Sunday of Lent celebrated virtually at 10 a.m. on Sunday\, March 7 only via Zoom and Facebook Live. It is Communion Sunday so remember your communion elements. To join via Zoom\, refer to the email from Pastor Sharon or email laurendjones32@gmail.com to receive the link. See the news section for the worship elements. See you at worship! \n 
URL:http://firstbaptistsouthington.org/event/virtual-communion-sunday-march-7/
ATTACH;FMTTYPE=image/jpeg:http://firstbaptistsouthington.org/wp-content/uploads/2021/03/Communion-with-grapes.jpeg
END:VEVENT
BEGIN:VEVENT
DTSTART;TZID=America/New_York:20210228T113000
DTEND;TZID=America/New_York:20210228T123000
DTSTAMP:20260423T053344
CREATED:20210227T032418Z
LAST-MODIFIED:20210227T032523Z
UID:2455-1614511800-1614515400@firstbaptistsouthington.org
SUMMARY:Virtual Annual Gathering on Feb. 28
DESCRIPTION:Our annual gathering will be held via Zoom only. Contact Pastor Sharon if you haven’t received the link or to receive the reports.
URL:http://firstbaptistsouthington.org/event/annual-gathering/
ATTACH;FMTTYPE=image/jpeg:http://firstbaptistsouthington.org/wp-content/uploads/2019/02/meeting-large-small-e1550289893714.jpg
END:VEVENT
BEGIN:VEVENT
DTSTART;TZID=America/New_York:20210228T100000
DTEND;TZID=America/New_York:20210228T110000
DTSTAMP:20260423T053344
CREATED:20210227T031958Z
LAST-MODIFIED:20210227T032616Z
UID:2452-1614506400-1614510000@firstbaptistsouthington.org
SUMMARY:Second Sunday of Lent Feb. 28
DESCRIPTION:Join us at 10 a.m. on Feb. 28 for the second Sunday of Lent via Zoom and Facebook Live. To join via Zoom\, refer to the email from Pastor Sharon or email laurendjones32@gmail.com to receive the link. Visit www.firstbaptistsouthington.org for the worship elements. See you at worship
URL:http://firstbaptistsouthington.org/event/second-sunday-of-lent-feb-24/
ATTACH;FMTTYPE=image/jpeg:http://firstbaptistsouthington.org/wp-content/uploads/2021/02/Lent.jpg
END:VEVENT
BEGIN:VEVENT
DTSTART;TZID=America/New_York:20210221T100000
DTEND;TZID=America/New_York:20210221T110000
DTSTAMP:20260423T053344
CREATED:20210220T042959Z
LAST-MODIFIED:20210220T042959Z
UID:2445-1613901600-1613905200@firstbaptistsouthington.org
SUMMARY:First Sunday of Lent: Virtual worship on Feb. 21
DESCRIPTION:It’s the first Sunday of Lent! Join us for virtual worship at 10 a.m. on Sunday\, Feb. 21 only via Zoom and Facebook Live. To join via Zoom\, refer to the email from Pastor Sharon or email laurendjones32@gmail.com to receive the link. Visit the news section on www.firstbaptistsouthington.org for the worship elements. See you at worship!
URL:http://firstbaptistsouthington.org/event/first-sunday-of-lent-virtual-worship-on-feb-21/
ATTACH;FMTTYPE=image/jpeg:http://firstbaptistsouthington.org/wp-content/uploads/2021/02/FB-Lent.jpg
END:VEVENT
BEGIN:VEVENT
DTSTART;TZID=America/New_York:20210214T100000
DTEND;TZID=America/New_York:20210214T110000
DTSTAMP:20260423T053344
CREATED:20210213T032346Z
LAST-MODIFIED:20210213T032346Z
UID:2435-1613296800-1613300400@firstbaptistsouthington.org
SUMMARY:Valentine's Day: Virtual Worship on Sunday\, Feb. 14
DESCRIPTION:Happy Valentine’s Day! Worship on Sunday\, Feb. 14 will be held via Zoom and on Facebook Live. To join via Zoom\, refer to the email from Pastor Sharon or email laurendjones32@gmail.com to receive the link. Visit the news page for the Order of Worship and Hymns. See you at worship!
URL:http://firstbaptistsouthington.org/event/valentines-day-virtual-worship-on-sunday-feb-14/
ATTACH;FMTTYPE=image/jpeg:http://firstbaptistsouthington.org/wp-content/uploads/2021/02/Hearts-cover.jpg
END:VEVENT
BEGIN:VEVENT
DTSTART;TZID=America/New_York:20210207T100000
DTEND;TZID=America/New_York:20210207T110000
DTSTAMP:20260423T053344
CREATED:20210206T041407Z
LAST-MODIFIED:20210206T041407Z
UID:2427-1612692000-1612695600@firstbaptistsouthington.org
SUMMARY:Virtual Communion Sunday\, Feb. 7\, 10 a.m.
DESCRIPTION:Feb. 7 is Communion Sunday via Zoom and Facebook Live at 10 a.m. – Remember your communion elements! To join via Zoom\, refer to the email from Pastor Sharon or email laurendjones32@gmail.com to receive the link. Visit the news section for the hymns and order of worship. See you at worship!
URL:http://firstbaptistsouthington.org/event/virtual-communion-sunday-feb-7-10-a-m/
ATTACH;FMTTYPE=image/jpeg:http://firstbaptistsouthington.org/wp-content/uploads/2021/02/Communion-Table-cropped.jpg
END:VEVENT
BEGIN:VEVENT
DTSTART;TZID=America/New_York:20210131T100000
DTEND;TZID=America/New_York:20210131T110000
DTSTAMP:20260423T053344
CREATED:20210131T035008Z
LAST-MODIFIED:20210131T035008Z
UID:2423-1612087200-1612090800@firstbaptistsouthington.org
SUMMARY:Virtual Sunday worship on Jan. 31 10 a.m.
DESCRIPTION:Join us for virtual worship at 10 a.m. on Sunday\, Jan. 31 only via Zoom and Facebook Live. To join via Zoom\, refer to the email from Pastor Sharon or email laurendjones32@gmail.com to receive the link. Click on the news section for the Order of Worship and hymns. See you at worship!
URL:http://firstbaptistsouthington.org/event/virtual-sunday-worship-on-jan-31-10-a-m/
ATTACH;FMTTYPE=image/jpeg:http://firstbaptistsouthington.org/wp-content/uploads/2021/01/FBC-winter-scene_LI.jpg
END:VEVENT
BEGIN:VEVENT
DTSTART;TZID=America/New_York:20210124T100000
DTEND;TZID=America/New_York:20210124T110000
DTSTAMP:20260423T053344
CREATED:20210123T213948Z
LAST-MODIFIED:20210123T213948Z
UID:2399-1611482400-1611486000@firstbaptistsouthington.org
SUMMARY:Virtual Sunday worship\, Jan. 24
DESCRIPTION:Join us for virtual worship at 10 a.m. on Sunday\, Jan. 24 only via Zoom and Facebook Live. To join via Zoom\, refer to the email from Pastor Sharon or email laurendjones32@gmail.com to receive the link. Visit the news section on www.firstbaptistsouthington.org for the worship elements. See you at worship!
URL:http://firstbaptistsouthington.org/event/virtual-sunday-worship-jan-24/
ATTACH;FMTTYPE=image/jpeg:http://firstbaptistsouthington.org/wp-content/uploads/2021/01/Rieke-20190317_110445-1.jpg
END:VEVENT
BEGIN:VEVENT
DTSTART;VALUE=DATE:20210118
DTEND;VALUE=DATE:20210119
DTSTAMP:20260423T053344
CREATED:20210117T011402Z
LAST-MODIFIED:20210117T011402Z
UID:2395-1610928000-1611014399@firstbaptistsouthington.org
SUMMARY:Martin Luther King Day
DESCRIPTION:Spend time today and every day considering how the message of The Rev. Dr. Martin Luther King Jr. is more urgent than before. Thank you for making a difference in the world.
URL:http://firstbaptistsouthington.org/event/martin-luther-king-day/
ATTACH;FMTTYPE=image/jpeg:http://firstbaptistsouthington.org/wp-content/uploads/2019/01/martin-luther-king-jr-quotes-2-1547819270-3156.jpg
END:VEVENT
BEGIN:VEVENT
DTSTART;TZID=America/New_York:20210117T100000
DTEND;TZID=America/New_York:20210117T110000
DTSTAMP:20260423T053344
CREATED:20210117T005942Z
LAST-MODIFIED:20210117T010441Z
UID:2385-1610877600-1610881200@firstbaptistsouthington.org
SUMMARY:Virtual Sunday worship\, Jan. 17\, 10 a.m.
DESCRIPTION:Join us for virtual worship at 10 a.m. on Sunday\, Jan. 17 only via Zoom and Facebook Live. To join via Zoom\, refer to the email from Pastor Sharon or email laurendjones32@gmail.com to receive the link. Visit our news section for the worship elements. See you at worship!
URL:http://firstbaptistsouthington.org/event/virtual-sunday-worship-jan-17-9-a-m/
ATTACH;FMTTYPE=image/jpeg:http://firstbaptistsouthington.org/wp-content/uploads/2021/01/little-dahlias-on-altar.jpg
END:VEVENT
BEGIN:VEVENT
DTSTART;TZID=America/New_York:20210110T100000
DTEND;TZID=America/New_York:20210110T110000
DTSTAMP:20260423T053344
CREATED:20210109T040935Z
LAST-MODIFIED:20210109T040935Z
UID:2377-1610272800-1610276400@firstbaptistsouthington.org
SUMMARY:Virtual Sunday worship - Baptism of the Lord - Jan. 10\, 10 a.m.
DESCRIPTION:Join us on Sunday\, Jan. 10 at 10 a.m. to celebrate the Baptism of the Lord with virtual worship only via Zoom and Facebook Live. To join via Zoom\, refer to the email from Pastor Sharon or email laurendjones32@gmail.com to receive the link. Visit www.firstbaptistsouthington.org for the worship elements. See you at worship!
URL:http://firstbaptistsouthington.org/event/virtual-sunday-worship-baptism-of-the-lord-jan-10-10-a-m/
ATTACH;FMTTYPE=image/jpeg:http://firstbaptistsouthington.org/wp-content/uploads/2021/01/Baptism-of-our-Lord-quote.jpg
END:VEVENT
BEGIN:VEVENT
DTSTART;TZID=America/New_York:20210103T100000
DTEND;TZID=America/New_York:20210103T110000
DTSTAMP:20260423T053344
CREATED:20210101T043433Z
LAST-MODIFIED:20210101T043433Z
UID:2359-1609668000-1609671600@firstbaptistsouthington.org
SUMMARY:Virtual Communion Sunday Worship Jan. 3
DESCRIPTION:Join us for virtual worship at 10 a.m. on Sunday\, Jan. 3 only via Zoom and Facebook Live. It is Communion Sunday so remember your communion elements. To join via Zoom\, refer to the email from Pastor Sharon or email laurendjones32@gmail.com to receive the link. Visit www.firstbaptistsouthington.org for the worship elements. See you at worship!
URL:http://firstbaptistsouthington.org/event/virtual-communion-sunday-worship-jan-3/
ATTACH;FMTTYPE=image/jpeg:http://firstbaptistsouthington.org/wp-content/uploads/2020/12/Three-Kings-scaled.jpg
END:VEVENT
BEGIN:VEVENT
DTSTART;VALUE=DATE:20210101
DTEND;VALUE=DATE:20210102
DTSTAMP:20260423T053344
CREATED:20210101T221238Z
LAST-MODIFIED:20210101T221238Z
UID:2367-1609459200-1609545599@firstbaptistsouthington.org
SUMMARY:Have a blessed New Year!
DESCRIPTION:
URL:http://firstbaptistsouthington.org/event/have-a-blessed-new-year/
ATTACH;FMTTYPE=image/jpeg:http://firstbaptistsouthington.org/wp-content/uploads/2021/01/Happy-New-Year-behold.jpg
END:VEVENT
BEGIN:VEVENT
DTSTART;TZID=America/New_York:20201227T100000
DTEND;TZID=America/New_York:20201227T110000
DTSTAMP:20260423T053344
CREATED:20201226T205127Z
LAST-MODIFIED:20201226T205127Z
UID:2352-1609063200-1609066800@firstbaptistsouthington.org
SUMMARY:Virtual Sunday worship\, Dec. 27 at 10 a.m.
DESCRIPTION:Join us for virtual worship at 10 a.m. on Sunday\, Dec. 27 only via Zoom and Facebook Live. To join via Zoom\, refer to the email from Pastor Sharon or email laurendjones32@gmail.com to receive the link. Visit the news page for the Order of Worship and hymns. See you at worship!
URL:http://firstbaptistsouthington.org/event/virtual-sunday-worship-dec-27-at-10-a-m/
ATTACH;FMTTYPE=image/jpeg:http://firstbaptistsouthington.org/wp-content/uploads/2018/12/white-nativity.jpg
END:VEVENT
BEGIN:VEVENT
DTSTART;TZID=America/New_York:20201224T180000
DTEND;TZID=America/New_York:20201224T190000
DTSTAMP:20260423T053344
CREATED:20201223T041646Z
LAST-MODIFIED:20201223T041754Z
UID:2344-1608832800-1608836400@firstbaptistsouthington.org
SUMMARY:Virtual Christmas Eve Service of Lessons & Carols
DESCRIPTION:Join us on Thursday\, Dec. 24 at 6 p.m. for the virtual Christmas Eve Service of Lessons & Carols on Zoom and Facebook Live. To join via Zoom\, refer to the email from Pastor Sharon or email laurendjones32@gmail.com to receive the link. Prepare your own candle to light before we sing “Silent Night.” Come let us adore Him! \nClick here for the Order of Worship: \nOrder of Worship – December 24\, 2020 \nClick here for the hymns: \nHymns for Christmas Eve\, December 24\, 2020
URL:http://firstbaptistsouthington.org/event/virtual-christmas-eve-service-of-lessons-carols/
ATTACH;FMTTYPE=image/jpeg:http://firstbaptistsouthington.org/wp-content/uploads/2020/12/CE-006-scaled.jpg
END:VEVENT
BEGIN:VEVENT
DTSTART;TZID=America/New_York:20201222T170000
DTEND;TZID=America/New_York:20201222T233000
DTSTAMP:20260423T053344
CREATED:20201219T011321Z
LAST-MODIFIED:20201219T011321Z
UID:2335-1608656400-1608679800@firstbaptistsouthington.org
SUMMARY:Illuminate the Night - Dec. 22
DESCRIPTION:Please light a luminary at the end of your driveway in support of all affected by the pandemic.
URL:http://firstbaptistsouthington.org/event/illuminate-the-night-dec-22/
ATTACH;FMTTYPE=image/jpeg:http://firstbaptistsouthington.org/wp-content/uploads/2020/12/Illuminate-the-Night-Dec-22.jpg
END:VEVENT
BEGIN:VEVENT
DTSTART;TZID=America/New_York:20201220T100000
DTEND;TZID=America/New_York:20201220T110000
DTSTAMP:20260423T053344
CREATED:20201219T004440Z
LAST-MODIFIED:20201219T004440Z
UID:2325-1608458400-1608462000@firstbaptistsouthington.org
SUMMARY:Fourth Sunday of Advent: Love - Dec. 20
DESCRIPTION:It’s the Fourth Sunday of Advent – Love! Join us for virtual worship at 10 a.m. on Sunday\, Dec. 20 only via Zoom and Facebook Live. To join via Zoom\, refer to the email from Pastor Sharon or email laurendjones32@gmail.com to receive the link. Visit the news section for the worship elements. See you at worship!
URL:http://firstbaptistsouthington.org/event/fourth-sunday-of-advent-love-dec-20/
ATTACH;FMTTYPE=image/jpeg:http://firstbaptistsouthington.org/wp-content/uploads/2020/12/Fourth-Sunday-of-Advent.jpg
END:VEVENT
BEGIN:VEVENT
DTSTART;TZID=America/New_York:20201213T100000
DTEND;TZID=America/New_York:20201213T110000
DTSTAMP:20260423T053344
CREATED:20201212T135356Z
LAST-MODIFIED:20201212T135437Z
UID:2311-1607853600-1607857200@firstbaptistsouthington.org
SUMMARY:Third Sunday of Advent: Joy
DESCRIPTION:It’s the Third Sunday of Advent – Joy! Join us for virtual worship at 10 a.m. on Sunday\, Dec. 13 only via Zoom and Facebook Live. To join via Zoom\, refer to the email from Pastor Sharon or email laurendjones32@gmail.com to receive the link. Visit “news” at  www.firstbaptistsouthington.org for the worship elements. See you at worship!
URL:http://firstbaptistsouthington.org/event/third-sunday-of-advent-joy/
ATTACH;FMTTYPE=image/jpeg:http://firstbaptistsouthington.org/wp-content/uploads/2020/12/Advent-3rd-Sunday-Joy.jpg
END:VEVENT
BEGIN:VEVENT
DTSTART;TZID=America/New_York:20201206T100000
DTEND;TZID=America/New_York:20201206T110000
DTSTAMP:20260423T053344
CREATED:20201205T213256Z
LAST-MODIFIED:20201205T213256Z
UID:2303-1607248800-1607252400@firstbaptistsouthington.org
SUMMARY:Second Sunday of Advent: Peace - Dec. 6
DESCRIPTION:It’s the Second Sunday of Advent – Peace! Join us for virtual worship at 10 a.m. on Sunday\, Dec. 6 only via Zoom and Facebook Live. As it is the first Sunday of the month\, remember to prepare your communion elements. To join via Zoom\, refer to the email from Pastor Sharon or email laurendjones32@gmail.com to receive the link. Visit firstbaptistsouthington.org for the worship elements. See you at worship!
URL:http://firstbaptistsouthington.org/event/second-sunday-of-advent-peace-dec-6/
ATTACH;FMTTYPE=image/jpeg:http://firstbaptistsouthington.org/wp-content/uploads/2020/12/Advent-2nd-Sunday-peace.jpg
END:VEVENT
BEGIN:VEVENT
DTSTART;TZID=America/New_York:20201129T100000
DTEND;TZID=America/New_York:20201129T110000
DTSTAMP:20260423T053344
CREATED:20201128T160506Z
LAST-MODIFIED:20201128T160529Z
UID:2299-1606644000-1606647600@firstbaptistsouthington.org
SUMMARY:First Sunday of Advent Nov. 29: Hope!
DESCRIPTION:It’s the First Sunday of Advent – Hope! Join us at 10 a.m. on Sunday\, Nov. 29 only via Zoom and Facebook Live. To join via Zoom\, refer to the email from Pastor Sharon or email laurendjones32@gmail.com to receive the link. Check the news section for the worship elements.
URL:http://firstbaptistsouthington.org/event/first-sunday-of-advent-nov-28-hope/
ATTACH;FMTTYPE=image/jpeg:http://firstbaptistsouthington.org/wp-content/uploads/2020/11/First-Sunday-Of-Advent-Hope-760x540-1.jpg
END:VEVENT
BEGIN:VEVENT
DTSTART;VALUE=DATE:20201126
DTEND;VALUE=DATE:20201127
DTSTAMP:20260423T053344
CREATED:20201106T025408Z
LAST-MODIFIED:20201106T025408Z
UID:2248-1606348800-1606435199@firstbaptistsouthington.org
SUMMARY:Happy Thanksgiving
DESCRIPTION:
URL:http://firstbaptistsouthington.org/event/happy-thanksgiving-2/
ATTACH;FMTTYPE=image/jpeg:http://firstbaptistsouthington.org/wp-content/uploads/2020/11/Happy-thanksgiving-the-goodness-of-the-Lord.jpg
END:VEVENT
END:VCALENDAR