BEGIN:VCALENDAR
VERSION:2.0
PRODID:-//First Baptist Church, American Baptist Church Southington CT - ECPv6.15.14//NONSGML v1.0//EN
CALSCALE:GREGORIAN
METHOD:PUBLISH
X-WR-CALNAME:First Baptist Church, American Baptist Church Southington CT
X-ORIGINAL-URL:http://firstbaptistsouthington.org
X-WR-CALDESC:Events for First Baptist Church, American Baptist Church Southington CT
REFRESH-INTERVAL;VALUE=DURATION:PT1H
X-Robots-Tag:noindex
X-PUBLISHED-TTL:PT1H
BEGIN:VTIMEZONE
TZID:America/New_York
BEGIN:DAYLIGHT
TZOFFSETFROM:-0500
TZOFFSETTO:-0400
TZNAME:EDT
DTSTART:20200308T070000
END:DAYLIGHT
BEGIN:STANDARD
TZOFFSETFROM:-0400
TZOFFSETTO:-0500
TZNAME:EST
DTSTART:20201101T060000
END:STANDARD
BEGIN:DAYLIGHT
TZOFFSETFROM:-0500
TZOFFSETTO:-0400
TZNAME:EDT
DTSTART:20210314T070000
END:DAYLIGHT
BEGIN:STANDARD
TZOFFSETFROM:-0400
TZOFFSETTO:-0500
TZNAME:EST
DTSTART:20211107T060000
END:STANDARD
BEGIN:DAYLIGHT
TZOFFSETFROM:-0500
TZOFFSETTO:-0400
TZNAME:EDT
DTSTART:20220313T070000
END:DAYLIGHT
BEGIN:STANDARD
TZOFFSETFROM:-0400
TZOFFSETTO:-0500
TZNAME:EST
DTSTART:20221106T060000
END:STANDARD
END:VTIMEZONE
BEGIN:VEVENT
DTSTART;TZID=America/New_York:20210808T100000
DTEND;TZID=America/New_York:20210808T110000
DTSTAMP:20260422T055107
CREATED:20210807T032742Z
LAST-MODIFIED:20210807T032742Z
UID:2713-1628416800-1628420400@firstbaptistsouthington.org
SUMMARY:Sunday worship\, Aug. 8: in-person & virtually
DESCRIPTION:Join us as we gather in the sanctuary for Sunday worship on Aug. 8 at 10 a.m. We follow CDC guidelines regarding masks: If you are unvaccinated\, please wear a mask. If you are vaccinated\, masks are optional. Worship will also be offered virtually via Zoom and Facebook Live. To join via Zoom\, refer to the email from Pastor Sharon or email laurendjones32@gmail.com to receive the link. See you at worship!
URL:http://firstbaptistsouthington.org/event/sunday-worship-aug-8-in-person-virtually/
ATTACH;FMTTYPE=image/jpeg:http://firstbaptistsouthington.org/wp-content/uploads/2020/06/worship-graphic.jpg
END:VEVENT
BEGIN:VEVENT
DTSTART;TZID=America/New_York:20210801T100000
DTEND;TZID=America/New_York:20210801T110000
DTSTAMP:20260422T055107
CREATED:20210729T022253Z
LAST-MODIFIED:20210729T022253Z
UID:2707-1627812000-1627815600@firstbaptistsouthington.org
SUMMARY:Communion Sunday Aug. 1: in-person & virtually!
DESCRIPTION:Join us as we gather in the sanctuary for Communion Sunday on Aug. 1 at 10 a.m. We follow CDC guidelines regarding masks: If you are unvaccinated\, please wear a mask. If you are vaccinated\, masks are optional. Worship will also be offered virtually via Zoom and Facebook Live. To join via Zoom\, refer to the email from Pastor Sharon or email laurendjones32@gmail.com to receive the link. See you at worship!
URL:http://firstbaptistsouthington.org/event/communion-sunday-aug-1-in-person-virtually/
ATTACH;FMTTYPE=image/jpeg:http://firstbaptistsouthington.org/wp-content/uploads/2021/07/Communion-Sunday-2020-A.jpg
END:VEVENT
BEGIN:VEVENT
DTSTART;TZID=America/New_York:20210725T100000
DTEND;TZID=America/New_York:20210725T110000
DTSTAMP:20260422T055107
CREATED:20210724T143319Z
LAST-MODIFIED:20210724T143319Z
UID:2700-1627207200-1627210800@firstbaptistsouthington.org
SUMMARY:July 25 worship: in-person and virtually!
DESCRIPTION:Join us as we gather INSIDE the sanctuary on July 25 for Sunday worship at 10 a.m. We will be following CDC guidelines regarding masks: If you are unvaccinated\, please wear a mask. If you are vaccinated\, masks are optional. Worship will also be offered virtually via Zoom and Facebook Live. To join via Zoom\, refer to the email from Pastor Sharon or email laurendjones32@gmail.com to receive the link. See the news section for the worship elements. See you at worship!
URL:http://firstbaptistsouthington.org/event/july-25-worship-in-person-and-virtually/
ATTACH;FMTTYPE=image/jpeg:http://firstbaptistsouthington.org/wp-content/uploads/2021/07/church-rainbow.jpg
END:VEVENT
BEGIN:VEVENT
DTSTART;TZID=America/New_York:20210718T100000
DTEND;TZID=America/New_York:20210718T110000
DTSTAMP:20260422T055107
CREATED:20210716T131059Z
LAST-MODIFIED:20210716T131059Z
UID:2692-1626602400-1626606000@firstbaptistsouthington.org
SUMMARY:July 18 worship: in-person and virtually!
DESCRIPTION:Join us as we gather INSIDE the sanctuary on July 18 for Sunday at 10 a.m. We will be following CDC guidelines regarding masks: If you are unvaccinated\, please wear a mask. If you are vaccinated\, masks are optional but not required. Worship will also be offered virtually via Zoom and Facebook Live. To join via Zoom\, refer to the email from Pastor Sharon or email laurendjones32@gmail.com to receive the link. Visit www.firstbaptistsouthington.org for the worship elements. See you at worship!
URL:http://firstbaptistsouthington.org/event/july-18-worship-in-person-and-virtually/
ATTACH;FMTTYPE=image/jpeg:http://firstbaptistsouthington.org/wp-content/uploads/2020/10/Rieke-20190317_110445-1-e1602902435829.jpg
END:VEVENT
BEGIN:VEVENT
DTSTART;TZID=America/New_York:20210711T100000
DTEND;TZID=America/New_York:20210711T110000
DTSTAMP:20260422T055107
CREATED:20210711T124913Z
LAST-MODIFIED:20210711T125456Z
UID:2682-1625997600-1626001200@firstbaptistsouthington.org
SUMMARY:July 11 worship: inside and virtually
DESCRIPTION:Join us as we gather INSIDE the sanctuary on July 11 for Communion Sunday at 10 a.m. We will be following CDC guidelines regarding masks: If you are unvaccinated\, please wear a mask. If you are vaccinated\, masks are optional but not required. Worship will also be offered virtually via Zoom and Facebook Live. To join via Zoom\, refer to the email from Pastor Sharon or email laurendjones32@gmail.com to receive the link. Visit the news announcement for the worship elements. See you at worship!
URL:http://firstbaptistsouthington.org/event/july-11-worship-in-person-and-virtually/
ATTACH;FMTTYPE=image/jpeg:http://firstbaptistsouthington.org/wp-content/uploads/2021/07/Inside-07042021-scaled.jpg
END:VEVENT
BEGIN:VEVENT
DTSTART;TZID=America/New_York:20210704T100000
DTEND;TZID=America/New_York:20210704T110000
DTSTAMP:20260422T055107
CREATED:20210702T220727Z
LAST-MODIFIED:20210702T220727Z
UID:2674-1625392800-1625396400@firstbaptistsouthington.org
SUMMARY:Fourth of July Communion Sunday worship
DESCRIPTION:Join us as we gather INSIDE the sanctuary on the Fourth of July for Communion Sunday at 10 a.m. We will be following CDC guidelines regarding masks: If you are unvaccinated\, please wear a mask. If you are vaccinated\, masks are optional but not required. Worship will also be offered virtually via Zoom and Facebook Live. To join via Zoom\, refer to the email from Pastor Sharon or email laurendjones32@gmail.com to receive the link. Visit www.firstbaptistsouthington.org for the worship elements. See you at worship!
URL:http://firstbaptistsouthington.org/event/fourth-of-july-communion-sunday-worship/
ATTACH;FMTTYPE=image/jpeg:http://firstbaptistsouthington.org/wp-content/uploads/2021/07/Fourth-of-July-Blessed-is-the-Nation.jpg
END:VEVENT
BEGIN:VEVENT
DTSTART;TZID=America/New_York:20210627T100000
DTEND;TZID=America/New_York:20210627T110000
DTSTAMP:20260422T055107
CREATED:20210626T191058Z
LAST-MODIFIED:20210626T191058Z
UID:2663-1624788000-1624791600@firstbaptistsouthington.org
SUMMARY:Sunday worship\, June 27 at 10 a.m.
DESCRIPTION:Join us on the lawn for Sunday worship on June 27 at 10 a.m. Bring a chair or something to sit on\, a hat and perhaps some water. Please practice social distancing. Our service will also be broadcast via Zoom and Facebook. To join via Zoom\, refer to the email from Pastor Sharon or email laurendjones32@gmail.com to receive the link. Visit the news on www.firstbaptistsouthington.org for the worship elements. See you at worship!
URL:http://firstbaptistsouthington.org/event/sunday-worship-june-27-at-10-a-m/
ATTACH;FMTTYPE=image/jpeg:http://firstbaptistsouthington.org/wp-content/uploads/2021/06/20210620_101026-scaled.jpg
END:VEVENT
BEGIN:VEVENT
DTSTART;TZID=America/New_York:20210620T100000
DTEND;TZID=America/New_York:20210620T110000
DTSTAMP:20260422T055107
CREATED:20210619T025838Z
LAST-MODIFIED:20210619T025838Z
UID:2636-1624183200-1624186800@firstbaptistsouthington.org
SUMMARY:Father's Day worship June 20
DESCRIPTION:Join us on the lawn for Sunday worship on Father’s Day\, June 20 at 10 a.m.. Bring a chair\, a hat and some water. Masks for vaccinated people are optional and unvaccinated people should continue to wear masks. Our service will also be broadcast via Zoom and Facebook. Visit the news section for the worship elements. All are welcome!
URL:http://firstbaptistsouthington.org/event/fathers-day-worship-june-20/
ATTACH;FMTTYPE=image/jpeg:http://firstbaptistsouthington.org/wp-content/uploads/2021/06/FAthers-Day-blessed.jpg
END:VEVENT
BEGIN:VEVENT
DTSTART;TZID=America/New_York:20210616T173000
DTEND;TZID=America/New_York:20210616T183000
DTSTAMP:20260422T055107
CREATED:20210610T004302Z
LAST-MODIFIED:20210610T004302Z
UID:2628-1623864600-1623868200@firstbaptistsouthington.org
SUMMARY:MLK Mural Project info session with SoCCA on June 16
DESCRIPTION:Southington Community Cultural Arts is seeking the community’s input and participation to create a RiseUP For Arts mural representing Martin Luther King Jr.’s life. They would like a broad representation of ideas for donated space for the mural\, artists’ involvement\, and most importantly the content. Who do you think has made a difference toward a more equitable and just world? What would you like portrayed in our town’s mural? Register now for in-person or virtual event Wed. June 16\, 5:30-6:30pm. https://southingtonarts.org/index.php/events
URL:http://firstbaptistsouthington.org/event/mlk-mural-project-info-session-with-socca-on-june-16/
ATTACH;FMTTYPE=image/png:http://firstbaptistsouthington.org/wp-content/uploads/2021/06/MLK-Info-session.png
END:VEVENT
BEGIN:VEVENT
DTSTART;TZID=America/New_York:20210613T090000
DTEND;TZID=America/New_York:20210613T100000
DTSTAMP:20260422T055107
CREATED:20210609T181029Z
LAST-MODIFIED:20210609T181029Z
UID:2617-1623574800-1623578400@firstbaptistsouthington.org
SUMMARY:Sunday worship\, June 13 - on the lawn\, via Zoom or Facebook live!
DESCRIPTION:Join us for Sunday worship on June 13 at 10 a.m. – on the lawn\, via Zoom or on Facebook live. If attending in person\, bring a chair\, water and mask. To join via Zoom\, refer to the email from Pastor Sharon or email laurendjones32@gmail.com to receive the link and worship elements. See you at worship – however you join us!
URL:http://firstbaptistsouthington.org/event/sunday-worship-june-13-on-the-lawn-via-zoom-or-facebook-live/
ATTACH;FMTTYPE=image/jpeg:http://firstbaptistsouthington.org/wp-content/uploads/2021/06/20210606_100358-scaled.jpg
END:VEVENT
BEGIN:VEVENT
DTSTART;TZID=America/New_York:20210606T100000
DTEND;TZID=America/New_York:20210606T110000
DTSTAMP:20260422T055107
CREATED:20210605T153005Z
LAST-MODIFIED:20210605T153005Z
UID:2608-1622973600-1622977200@firstbaptistsouthington.org
SUMMARY:Communion Sunday\, June 6 - in-person\, Zoom\, Facebook LIve
DESCRIPTION:Join us for Communion Sunday on June 6 at 10 a.m. – on the lawn\, via Zoom and Facebook Live. Remember your communion elements. If you are coming in person\, bring your chair\, communion elements\, water and mask. To join via Zoom\, refer to the email from Pastor Sharon or email laurendjones32@gmail.com to receive the link. Visit the news posting for the worship elements. See you at worship!
URL:http://firstbaptistsouthington.org/event/communion-sunday-june-6-in-person-zoom-facebook-live/
END:VEVENT
BEGIN:VEVENT
DTSTART;TZID=America/New_York:20210530T100000
DTEND;TZID=America/New_York:20210530T110000
DTSTAMP:20260422T055107
CREATED:20210529T155633Z
LAST-MODIFIED:20210529T155633Z
UID:2600-1622368800-1622372400@firstbaptistsouthington.org
SUMMARY:Memorial Day Sunday worship May 30 in-person & virtually
DESCRIPTION:Join us for Memorial Day Sunday worship on May 30 at 10 a.m. Because it will be rainy weather\, we will worship indoors. Please wear a mask. Worship will also be offered virtually and via Facebook Live. To join via Zoom\, refer to the email from Pastor Sharon or email laurendjones32@gmail.com to receive the link. Visit the news section on www.firstbaptistsouthington.org for the worship elements. See you at worship – however you join us!
URL:http://firstbaptistsouthington.org/event/memorial-day-sunday-worship-may-30-in-person-virtually/
ATTACH;FMTTYPE=image/jpeg:http://firstbaptistsouthington.org/wp-content/uploads/2021/05/Memorial-Day-3.jpeg
END:VEVENT
BEGIN:VEVENT
DTSTART;TZID=America/New_York:20210523T100000
DTEND;TZID=America/New_York:20210523T110000
DTSTAMP:20260422T055107
CREATED:20210522T003042Z
LAST-MODIFIED:20210522T003439Z
UID:2593-1621764000-1621767600@firstbaptistsouthington.org
SUMMARY:Pentecost Sunday on May 23: Wear red!
DESCRIPTION:Come worship on Pentecost Sunday at 10 a.m. in person on the church lawn or virtually via Zoom and Facebook Live. To join via Zoom\, refer to the email from Pastor Sharon or email laurendjones32@gmail.com to receive the link. For the order of worship and hymns\, visit our news section. Remember: wear red!
URL:http://firstbaptistsouthington.org/event/pentecost-sunday-on-may-23-wear-red/
ATTACH;FMTTYPE=image/jpeg:http://firstbaptistsouthington.org/wp-content/uploads/2021/05/Pentecost-Stushie-Art.jpg
END:VEVENT
BEGIN:VEVENT
DTSTART;TZID=America/New_York:20210516T100000
DTEND;TZID=America/New_York:20210516T110000
DTSTAMP:20260422T055107
CREATED:20210515T141707Z
LAST-MODIFIED:20210515T141707Z
UID:2586-1621159200-1621162800@firstbaptistsouthington.org
SUMMARY:Sunday worship\, May 16 - in-person & virtual
DESCRIPTION:Join us for Sunday worship at 10 a.m. on May 16 in-person on the church lawn or virtually via Zoom and Facebook Live. Bring a chair\, mask and beverage. To join via Zoom\, refer to the email from Pastor Sharon or email laurendjones32@gmail.com to receive the link. Click here for the worship elements: Sunday\, May 16 worship – in-person & virtual – First Baptist Church\, American Baptist Church Southington CT (firstbaptistsouthington.org) \nSee you at worship!
URL:http://firstbaptistsouthington.org/event/sunday-worship-may-16-in-person-virtual/
ATTACH;FMTTYPE=image/jpeg:http://firstbaptistsouthington.org/wp-content/uploads/2021/05/20210509_100603-scaled-e1621087939870.jpg
END:VEVENT
BEGIN:VEVENT
DTSTART;TZID=America/New_York:20210509T100000
DTEND;TZID=America/New_York:20210509T110000
DTSTAMP:20260422T055107
CREATED:20210509T015330Z
LAST-MODIFIED:20210509T015330Z
UID:2573-1620554400-1620558000@firstbaptistsouthington.org
SUMMARY:Mother's Day Sunday worship\, May 9
DESCRIPTION:Join us on the church lawn at 10 a.m. for in-person worship. Bring a chair and mask. You can also join us on Zoom or watch on Facebook Live. If you need the Zoom link\, contact Pastor Sharon. For the worship elements\, visit the news section at www.firstbaptistsouthington.org .
URL:http://firstbaptistsouthington.org/event/mothers-day-sunday-worship-may-9/
ATTACH;FMTTYPE=image/jpeg:http://firstbaptistsouthington.org/wp-content/uploads/2021/05/Happy-Mothers-Day-001.jpg
END:VEVENT
BEGIN:VEVENT
DTSTART;TZID=America/New_York:20210506T120000
DTEND;TZID=America/New_York:20210506T130000
DTSTAMP:20260422T055107
CREATED:20210501T025949Z
LAST-MODIFIED:20210501T025949Z
UID:2558-1620302400-1620306000@firstbaptistsouthington.org
SUMMARY:National Day of Prayer 2021
DESCRIPTION:Join others from across the country for the National Day of Prayer by attending the Southington observance on Thurs.\, May 6\, 12p\, on the Town Green. Prayers\, songs & worship – socially distanced and masks\, please. Let us pray for our world and country.
URL:http://firstbaptistsouthington.org/event/national-day-of-prayer-2021/
ATTACH;FMTTYPE=image/jpeg:http://firstbaptistsouthington.org/wp-content/uploads/2021/04/National-Day-of-Prayer-2021.jpg
END:VEVENT
BEGIN:VEVENT
DTSTART;TZID=America/New_York:20210502T100000
DTEND;TZID=America/New_York:20210502T110000
DTSTAMP:20260422T055107
CREATED:20210501T031122Z
LAST-MODIFIED:20210502T025128Z
UID:2563-1619949600-1619953200@firstbaptistsouthington.org
SUMMARY:Communion Sunday Worship\, May 2 - on the lawn!
DESCRIPTION:Weather permitting\, we will have our first outdoor worship service on Communion Sunday\, May 2 at 10 a.m.! Please bring your chair\, communion elements and mask. The service will also be held via Zoom (information emailed by Pastor Sharon) and Facebook live. Please refer to the news section for the order of worship and hymns. See you at worship!
URL:http://firstbaptistsouthington.org/event/communion-sunday-worship-may-2-on-the-lawn/
ATTACH;FMTTYPE=image/jpeg:http://firstbaptistsouthington.org/wp-content/uploads/2020/08/20200705_102828-scaled.jpg
END:VEVENT
BEGIN:VEVENT
DTSTART;TZID=America/New_York:20210425T100000
DTEND;TZID=America/New_York:20210425T110000
DTSTAMP:20260422T055107
CREATED:20210424T011842Z
LAST-MODIFIED:20210424T011842Z
UID:2551-1619344800-1619348400@firstbaptistsouthington.org
SUMMARY:Good Shepherd Sunday April 25
DESCRIPTION:Join us for virtual worship at 10 a.m. on Good Shepherd Sunday\, April 25 only via Zoom and Facebook Live. To join via Zoom\, refer to the email from Pastor Sharon or email laurendjones32@gmail.com to receive the link. Visit www.firstbaptistsouthington.org news section for the worship elements. See you at worship!
URL:http://firstbaptistsouthington.org/event/good-shepherd-sunday-april-25/
ATTACH;FMTTYPE=image/jpeg:http://firstbaptistsouthington.org/wp-content/uploads/2021/04/Good-Shepherd-Sunday.jpg
END:VEVENT
BEGIN:VEVENT
DTSTART;TZID=America/New_York:20210418T100000
DTEND;TZID=America/New_York:20210418T110000
DTSTAMP:20260422T055107
CREATED:20210415T212322Z
LAST-MODIFIED:20210415T212322Z
UID:2546-1618740000-1618743600@firstbaptistsouthington.org
SUMMARY:Virtual Sunday Worship on Sunday\, April 18
DESCRIPTION:Join us for virtual worship at 10 a.m. on Sunday\, April 18 only via Zoom and Facebook Live. To join via Zoom\, refer to the email from Pastor Sharon or email laurendjones32@gmail.com to receive the link. Visit the news section on this website for the worship elements. See you at worship!
URL:http://firstbaptistsouthington.org/event/virtual-sunday-worship-on-sunday-april-18/
ATTACH;FMTTYPE=image/jpeg:http://firstbaptistsouthington.org/wp-content/uploads/2020/05/Garden-05162020-001-scaled.jpg
END:VEVENT
BEGIN:VEVENT
DTSTART;TZID=America/New_York:20210411T100000
DTEND;TZID=America/New_York:20210411T110000
DTSTAMP:20260422T055107
CREATED:20210410T233545Z
LAST-MODIFIED:20210410T233545Z
UID:2539-1618135200-1618138800@firstbaptistsouthington.org
SUMMARY:Virtual Sunday worship April 11
DESCRIPTION:Join us for virtual worship at 10 a.m. on Sunday\, April 11 only via Zoom and Facebook Live. To join via Zoom\, refer to the email from Pastor Sharon or email laurendjones32@gmail.com to receive the link. Visit the news section on this website for the worship elements. See you at worship!
URL:http://firstbaptistsouthington.org/event/virtual-sunday-worship-april-11/
ATTACH;FMTTYPE=image/jpeg:http://firstbaptistsouthington.org/wp-content/uploads/2021/04/Blessed-are-those-who-have-not-seen-yet-believe-e1618097675797.jpg
END:VEVENT
BEGIN:VEVENT
DTSTART;TZID=America/New_York:20210404T100000
DTEND;TZID=America/New_York:20210404T110000
DTSTAMP:20260422T055107
CREATED:20210403T215954Z
LAST-MODIFIED:20210403T215954Z
UID:2526-1617530400-1617534000@firstbaptistsouthington.org
SUMMARY:Easter Sunday\, April 4 - Virtual and Facebook
DESCRIPTION:Join us for virtual Easter Sunday worship at 10 a.m. on April 4 only via Zoom and Facebook Live. It is Communion Sunday so remember your communion elements. To join via Zoom\, refer to the email from Pastor Sharon or email laurendjones32@gmail.com to receive the link. Visit the news section for the worship elements. He is Risen!
URL:http://firstbaptistsouthington.org/event/easter-sunday-april-4-virtual-and-facebook/
ATTACH;FMTTYPE=image/jpeg:http://firstbaptistsouthington.org/wp-content/uploads/2021/04/FBC-Easter-crosses.jpg
END:VEVENT
BEGIN:VEVENT
DTSTART;TZID=America/New_York:20210404T063000
DTEND;TZID=America/New_York:20210404T070000
DTSTAMP:20260422T055107
CREATED:20210403T220953Z
LAST-MODIFIED:20210403T220953Z
UID:2533-1617517800-1617519600@firstbaptistsouthington.org
SUMMARY:Easter Sunday Sunrise Service - April 4
DESCRIPTION:Join us at the Merriman Cemetery on Marion Avenue Easter morning at 6:30AM to rejoice anew that He is risen! Merriman Cemetery is on the corner of Nutmeg Drive not far from Strong Elementary School. Dress warmly!
URL:http://firstbaptistsouthington.org/event/easter-sunday-sunrise-service-april-4/
ATTACH;FMTTYPE=image/jpeg:http://firstbaptistsouthington.org/wp-content/uploads/2021/04/merriman-cemetery.jpg
END:VEVENT
BEGIN:VEVENT
DTSTART;VALUE=DATE:20210402
DTEND;VALUE=DATE:20210403
DTSTAMP:20260422T055107
CREATED:20210328T022729Z
LAST-MODIFIED:20210328T022825Z
UID:2512-1617321600-1617407999@firstbaptistsouthington.org
SUMMARY:Good Friday
DESCRIPTION:
URL:http://firstbaptistsouthington.org/event/good-friday-2/
ATTACH;FMTTYPE=image/jpeg:http://firstbaptistsouthington.org/wp-content/uploads/2020/04/FBC-Easter-crosses.jpg
END:VEVENT
BEGIN:VEVENT
DTSTART;VALUE=DATE:20210401
DTEND;VALUE=DATE:20210402
DTSTAMP:20260422T055107
CREATED:20210328T022527Z
LAST-MODIFIED:20210401T012358Z
UID:2510-1617235200-1617321599@firstbaptistsouthington.org
SUMMARY:Maundy Thursday
DESCRIPTION:
URL:http://firstbaptistsouthington.org/event/maundy-thursday/
ATTACH;FMTTYPE=image/jpeg:http://firstbaptistsouthington.org/wp-content/uploads/2021/03/Maundy-Thursday.jpg
END:VEVENT
BEGIN:VEVENT
DTSTART;TZID=America/New_York:20210328T100000
DTEND;TZID=America/New_York:20210328T110000
DTSTAMP:20260422T055107
CREATED:20210328T022329Z
LAST-MODIFIED:20230203T215232Z
UID:2508-1616925600-1616929200@firstbaptistsouthington.org
SUMMARY:Palm Sunday\, March 28\, 10 a.m.\, virtual only
DESCRIPTION:Join us for Palm Sunday\, March 28 at 10 a.m. only via Zoom and Facebook Live. To join via Zoom\, refer to the email from Pastor Sharon or email laurendjones32@gmail.com to receive the link. Visit www.firstbaptistsouthington.org news for the worship elements. See you at worship!
URL:http://firstbaptistsouthington.org/event/palm-sunday-march-28-10-a-m/
ATTACH;FMTTYPE=image/jpeg:http://firstbaptistsouthington.org/wp-content/uploads/2019/04/Palm-Sunday-e1711231124725.jpg
END:VEVENT
BEGIN:VEVENT
DTSTART;TZID=America/New_York:20210321T100000
DTEND;TZID=America/New_York:20210321T110000
DTSTAMP:20260422T055107
CREATED:20210320T012831Z
LAST-MODIFIED:20210320T012831Z
UID:2495-1616320800-1616324400@firstbaptistsouthington.org
SUMMARY:Virtual Worship: Fifth Sunday of Lent on March 21
DESCRIPTION:Join us for the Fifth Sunday of Lent on March 21 at 10 a.m. only via Zoom and Facebook Live. To join via Zoom\, refer to the email from Pastor Sharon or email laurendjones32@gmail.com to receive the link. Visit the news section on  www.firstbaptistsouthington.org for the worship elements. See you at worship!
URL:http://firstbaptistsouthington.org/event/virtual-worship-fifth-sunday-of-lent-on-march-21/
ATTACH;FMTTYPE=image/jpeg:http://firstbaptistsouthington.org/wp-content/uploads/2021/03/Lent.jpg
END:VEVENT
BEGIN:VEVENT
DTSTART;VALUE=DATE:20210320
DTEND;VALUE=DATE:20210321
DTSTAMP:20260422T055107
CREATED:20210318T235249Z
LAST-MODIFIED:20210318T235249Z
UID:2492-1616198400-1616284799@firstbaptistsouthington.org
SUMMARY:Happy Spring - March 20
DESCRIPTION:
URL:http://firstbaptistsouthington.org/event/happy-spring-march-20/
ATTACH;FMTTYPE=image/jpeg:http://firstbaptistsouthington.org/wp-content/uploads/2021/03/spring-hello.jpg
END:VEVENT
BEGIN:VEVENT
DTSTART;TZID=America/New_York:20210314T100000
DTEND;TZID=America/New_York:20210314T110000
DTSTAMP:20260422T055107
CREATED:20210314T023449Z
LAST-MODIFIED:20210314T023449Z
UID:2485-1615716000-1615719600@firstbaptistsouthington.org
SUMMARY:Virtual Worship: Fourth Sunday of Lent March 14
DESCRIPTION:Join us for the Fourth Sunday of Lent on March 14 at 10 a.m. only via Zoom and Facebook Live. Remember to turn your clocks ahead or you’ll be late! To join via Zoom\, refer to the email from Pastor Sharon or email laurendjones32@gmail.com to receive the link. Visit the news page for the worship elements. See you at worship!
URL:http://firstbaptistsouthington.org/event/virtual-worship-fourth-sunday-of-lent-march-14/
ATTACH;FMTTYPE=image/jpeg:http://firstbaptistsouthington.org/wp-content/uploads/2021/03/Fourth-Sunday-of-Lent.jpg
END:VEVENT
BEGIN:VEVENT
DTSTART;VALUE=DATE:20210314
DTEND;VALUE=DATE:20210315
DTSTAMP:20260422T055107
CREATED:20210314T015451Z
LAST-MODIFIED:20210314T023540Z
UID:2480-1615680000-1615766399@firstbaptistsouthington.org
SUMMARY:Daylight Saving Time - Turn your clocks ahead!
DESCRIPTION:… Or you’ll be late for church at 10 a.m.!
URL:http://firstbaptistsouthington.org/event/daylight-saving-time-turn-your-clocks-ahead/
ATTACH;FMTTYPE=image/jpeg:http://firstbaptistsouthington.org/wp-content/uploads/2021/03/Spring-ahead.jpg
END:VEVENT
BEGIN:VEVENT
DTSTART;TZID=America/New_York:20210307T100000
DTEND;TZID=America/New_York:20210307T110000
DTSTAMP:20260422T055107
CREATED:20210306T151222Z
LAST-MODIFIED:20210306T151222Z
UID:2472-1615111200-1615114800@firstbaptistsouthington.org
SUMMARY:Virtual Communion Sunday March 7
DESCRIPTION:Join us for the Third Sunday of Lent celebrated virtually at 10 a.m. on Sunday\, March 7 only via Zoom and Facebook Live. It is Communion Sunday so remember your communion elements. To join via Zoom\, refer to the email from Pastor Sharon or email laurendjones32@gmail.com to receive the link. See the news section for the worship elements. See you at worship! \n 
URL:http://firstbaptistsouthington.org/event/virtual-communion-sunday-march-7/
ATTACH;FMTTYPE=image/jpeg:http://firstbaptistsouthington.org/wp-content/uploads/2021/03/Communion-with-grapes.jpeg
END:VEVENT
END:VCALENDAR