BEGIN:VCALENDAR
VERSION:2.0
PRODID:-//First Baptist Church, American Baptist Church Southington CT - ECPv6.15.14//NONSGML v1.0//EN
CALSCALE:GREGORIAN
METHOD:PUBLISH
X-ORIGINAL-URL:http://firstbaptistsouthington.org
X-WR-CALDESC:Events for First Baptist Church, American Baptist Church Southington CT
REFRESH-INTERVAL;VALUE=DURATION:PT1H
X-Robots-Tag:noindex
X-PUBLISHED-TTL:PT1H
BEGIN:VTIMEZONE
TZID:America/New_York
BEGIN:DAYLIGHT
TZOFFSETFROM:-0500
TZOFFSETTO:-0400
TZNAME:EDT
DTSTART:20240310T070000
END:DAYLIGHT
BEGIN:STANDARD
TZOFFSETFROM:-0400
TZOFFSETTO:-0500
TZNAME:EST
DTSTART:20241103T060000
END:STANDARD
BEGIN:DAYLIGHT
TZOFFSETFROM:-0500
TZOFFSETTO:-0400
TZNAME:EDT
DTSTART:20250309T070000
END:DAYLIGHT
BEGIN:STANDARD
TZOFFSETFROM:-0400
TZOFFSETTO:-0500
TZNAME:EST
DTSTART:20251102T060000
END:STANDARD
BEGIN:DAYLIGHT
TZOFFSETFROM:-0500
TZOFFSETTO:-0400
TZNAME:EDT
DTSTART:20260308T070000
END:DAYLIGHT
BEGIN:STANDARD
TZOFFSETFROM:-0400
TZOFFSETTO:-0500
TZNAME:EST
DTSTART:20261101T060000
END:STANDARD
END:VTIMEZONE
BEGIN:VEVENT
DTSTART;TZID=America/New_York:20250504T100000
DTEND;TZID=America/New_York:20250504T110000
DTSTAMP:20260424T074858
CREATED:20250503T202140Z
LAST-MODIFIED:20250503T202140Z
UID:4903-1746352800-1746356400@firstbaptistsouthington.org
SUMMARY:Communion Sunday\, May 4: In-Person & Online
DESCRIPTION:Communion Sunday on May 4 will be held at 10 a.m. in person and virtually via Zoom and Facebook Live (First Baptist Church – Southington\, CT). To join via Zoom\, DM us to receive the link. The Rev. Peg Lewis will lead the service. We are handicapped accessible. To learn more\, visit www.firstbaptistsouthington.org. Everyone is welcome at First Baptist Church!
URL:http://firstbaptistsouthington.org/event/communion-sunday-may-4-in-person-online/
ATTACH;FMTTYPE=image/jpeg:http://firstbaptistsouthington.org/wp-content/uploads/2025/01/20241103_095428-scaled.jpg
END:VEVENT
END:VCALENDAR